BEGIN:VCALENDAR
VERSION:2.0
PRODID:-//http://bomi40.eu///NONSGML kigkonsult.se iCalcreator 2.10.15//
METHOD:PUBLISH
BEGIN:VEVENT
UID:20260419T191012CEST-9125UksGDO@http://bomi40.eu/
DTSTAMP:20260419T171012Z
DESCRIPTION:Das Regionalnetzwerk KI:NT lädt zu einer neuen Veranstaltungsre
 ihe mit dem Titel Tassen-KI:NT ein. Die Idee basiert darauf\, ein kurzweil
 iges\, kompaktes online Angebot zu schaffen\, welches so lange geht\, bis 
 die Tasse leer getrunken ist. Inhaltlich möchten wir mit der Liberating St
 ructures Methode die Möglichkeit bieten\, neue Menschen aus der Region ken
 nen zu lernen und Networking auch im virtuellen Raum zu provozieren. Im An
 schluss gibt es einen Impulsvortrag mit wechselnden Themen und je nach ver
 fügbarer Zeit noch die Möglichkeit zu Diskussion und Austausch.\nZum Aufta
 kt der Veranstaltungsreihe wird uns Karin Ryschka (Energie Architektin bei
  ENNAGY) einen Einblick in die Welt der E-Mobility geben.\nUm immer wieder
  neue Themen im Fokus zu haben\, möchten wie Sie auffordern\, auf uns zuzu
 kommen und einen Themenvorschlag einzureichen. Um das Netzwerk lebendig zu
  machen\, braucht es viele Facetten und wir sind überzeugt\, dass wir noch
  viel voneinander lernen können! Hierbei können Technologien\, Methoden un
 d Techniken vorgestellt werden.\nDie Veranstaltung findet online über Zoom
  statt. Sie bekommen den Teilnahmelink nach Anmeldung und vor der Veransta
 ltung zugesendet.\nWeitere Informationen zur Veranstaltung finden Sie hier
 ... http://bomi40.eu/de/service-kompetenz/veranstaltungen/ort/event/2447-t
 assen-ki-nt-e-mobility
DTSTART:20220222T140000Z
DTEND:20220222T150000Z
LOCATION: Online an Ihrem PC oder Laptop ()
SUMMARY:Tassen-KI:NT – E-Mobility
URL:http://bomi40.eu/de/service-kompetenz/veranstaltungen/ort/event/2447-ta
 ssen-ki-nt-e-mobility
END:VEVENT
END:VCALENDAR
