BEGIN:VCALENDAR
VERSION:2.0
PRODID:-//http://bomi40.eu///NONSGML kigkonsult.se iCalcreator 2.10.15//
METHOD:PUBLISH
BEGIN:VEVENT
UID:20260419T191254CEST-7592TiwcJW@http://bomi40.eu/
DTSTAMP:20260419T171254Z
DESCRIPTION:Am 08. Februar 2022 wird die Veranstaltung zum Thema „Virtual R
 eality für den Unternehmensgebrauch“ stattfinden. Als Teilnehmer*in erhalt
 en Sie einen Einblick in aktuelle und relevante Details rund um Virtual Re
 ality zu neuen Entwicklungen\, Projekten und Beratungsangeboten.\nZielgrup
 pe:Die Hauptzielgruppe für die Veranstaltung sind kleine und mittelständis
 che Unternehmen. Darüber hinaus sind natürlich auch alle Interessierten he
 rzlich eingeladen.\nWeitere Informationen zur Veranstaltung finden Sie hie
 r... http://bomi40.eu/de/service-kompetenz/veranstaltungen/ort/event/2450-
 virtual-reality-fuer-den-unternehmensgebrauch
DTSTART:20220208T123000Z
DTEND:20220208T143000Z
LOCATION: Online an Ihrem PC oder Laptop ()
SUMMARY:Virtual Reality für den Unternehmensgebrauch
URL:http://bomi40.eu/de/service-kompetenz/veranstaltungen/ort/event/2450-vi
 rtual-reality-fuer-den-unternehmensgebrauch
END:VEVENT
END:VCALENDAR
