BEGIN:VCALENDAR
VERSION:2.0
PRODID:-//http://bomi40.eu///NONSGML kigkonsult.se iCalcreator 2.10.15//
METHOD:PUBLISH
BEGIN:VEVENT
UID:20260419T192803CEST-3141HTAkIp@http://bomi40.eu/
DTSTAMP:20260419T172803Z
DESCRIPTION:Das Berufsbild des klassischen Einkäufers wird sich im Zuge der
  Digitalisierung wandeln\; er wird zunehmend zum digitalen Schnittstellenm
 anager nach innen und außen.\nWas für viele Einkaufsabteilungen noch neu i
 st\, wird sich immer mehr durchsetzen: „Einkauf 4.0“ - die Entwicklung von
  einer dispositiven Beschaffung hin zum strategischen Einkauf. Durch autom
 atisierte\, durchgängige Arbeitsabläufe wird der Einkauf entlastet\, und k
 ann sich mehr auf strategische Arbeiten konzentrieren. Mithilfe von neuen 
 Beschaffungsprozessen können Informationen und Daten besser genutzt werden
 . Ein Querfluss von Daten\, deren Verdichtung und intelligente Auswertung 
 liefern neue Erkenntnisse als Basis für strategische Entscheidungen. Die A
 nforderungen und Erwartungen an den strategischen Einkauf werden wachsen.
 \nInhalte:• Einkauf 4.0 - was ist das überhaupt?• Voraussetzungen / Vortei
 le Einkauf 4.0• Einsatzfelder in der Praxis• Einkaufs-Organisation heute u
 nd nach Umsetzung von Einkauf 4.0• Lieferantenmanagement 4.0• Wo steht Ihr
  Einkauf mit seiner Digitalisierung heute?• Umsetzung von e-Beschaffungsab
 läufen in der Praxis\nPreis: 290€\nAnmeldung\nWeitere Informationen zur Ve
 ranstaltung befinden sich hier... http://bomi40.eu/de/service-kompetenz/ve
 ranstaltungen/ort/event/2453-einkauf-4-0-web-seminar
DTSTART:20220309T080000Z
DTEND:20220309T160000Z
LOCATION: Online an Ihrem PC oder Laptop ()
SUMMARY:Einkauf 4.0 - Web-Seminar
URL:http://bomi40.eu/de/service-kompetenz/veranstaltungen/ort/event/2453-ei
 nkauf-4-0-web-seminar
END:VEVENT
END:VCALENDAR
