BEGIN:VCALENDAR
VERSION:2.0
PRODID:-//http://bomi40.eu///NONSGML kigkonsult.se iCalcreator 2.10.15//
METHOD:PUBLISH
BEGIN:VEVENT
UID:20260419T191114CEST-0911rvoeD7@http://bomi40.eu/
DTSTAMP:20260419T171114Z
DESCRIPTION:Was Sie auf dem Event erwartet:\nEgal ob e-labels als digitaler
  Fertigungsauftrag oder aber auch zur auftragsspezifischen Kommissionierun
 g in der Fertigung zum Einsatz kommen. Sie haben immer den entscheidenden 
 Vorteil Fertigungsinformationen in Echtzeit zu liefern. Innerhalb der Indu
 strie werden in der Produktion Begleitpapiere immer häufiger durch elektro
 nischen Displays ersetzt: Durch den Einsatz von e-labels werden die betrie
 blichen Fertigungsprozesse digitalisiert\, sodass Sie ein Auftrag durch de
 n gesamten Produktionsprozess hinweg eindeutig identifizieren können.Autom
 atisieren Sie Ihre Produktion mit elektronischen Etiketten und erhalten da
 durch einen schlanken\, automatisierten und transparenten Materialfluss.\n
 Als besonderes Highlight berichtet unser Kunde Recticel Engineered Foams\,
  wie er durch den Einsatz der e-labels seinen Fertigungsauftrag komplett d
 igitalisierte und somit heute die nötige Transparenz in seiner Fertigung g
 enießt.\nWeitere Informationen zur Veranstaltung befinden sich hier... htt
 p://bomi40.eu/de/service-kompetenz/veranstaltungen/ort/event/2457-digitale
 r-materialfluss-datensynchronisation-zwischen-begleitpapier-erp
DTSTART:20220210T080000Z
DTEND:20220210T093000Z
LOCATION: Online an Ihrem PC oder Laptop ()
SUMMARY:Digitaler Materialfluss: Datensynchronisation zwischen Begleitpapie
 r & ERP
URL:http://bomi40.eu/de/service-kompetenz/veranstaltungen/ort/event/2457-di
 gitaler-materialfluss-datensynchronisation-zwischen-begleitpapier-erp
END:VEVENT
END:VCALENDAR
