BEGIN:VCALENDAR
VERSION:2.0
PRODID:-//http://bomi40.eu///NONSGML kigkonsult.se iCalcreator 2.10.15//
METHOD:PUBLISH
BEGIN:VEVENT
UID:20260419T202954CEST-5633vVNt7T@http://bomi40.eu/
DTSTAMP:20260419T182954Z
DESCRIPTION:Was Sie auf dem Event erwartetSie verfolgen eine Industrie 4.0 
 Strategie? Nein? Warum nicht? Die Vorteile liegen klar auf der Hand: verbe
 sserte Transparenz\, kürzere Rüstzeiten ohne Stillstand\, weniger Ausschus
 s und eine hohe Liefertreue. Diese Ziele können durch die Digitalisierung 
 Ihrer Produktion realisiert werden.\nUnser digitales Produktions-System nu
 tzt die Daten aus Ihrem ERP und plant\, steuert und überwacht damit den ge
 samten Produktzyklus: von der Materialerfassung\, der Maschinenauslastung 
 bis hin zur Erhebung der produzierten Stückzahl\, des verbrauchten Materia
 ls und der benötigten Zeit.\nAn unserem Online-Event zeigen wir Ihnen real
 e digitale Produktionsprozesse LIVE aus unserer smarten Fabrik.\nWeitere I
 nformationen zur Veranstaltung befinden sich hier... http://bomi40.eu/de/s
 ervice-kompetenz/veranstaltungen/ort/event/2459-transparente-und-planbare-
 produktionsprozesse-durch-digitalisierung
DTSTART:20220317T080000Z
DTEND:20220317T092000Z
LOCATION: Online an Ihrem PC oder Laptop ()
SUMMARY:Transparente und planbare Produktionsprozesse durch Digitalisierung
URL:http://bomi40.eu/de/service-kompetenz/veranstaltungen/ort/event/2459-tr
 ansparente-und-planbare-produktionsprozesse-durch-digitalisierung
END:VEVENT
END:VCALENDAR
