BEGIN:VCALENDAR
VERSION:2.0
PRODID:-//http://bomi40.eu///NONSGML kigkonsult.se iCalcreator 2.10.15//
METHOD:PUBLISH
BEGIN:VEVENT
UID:20260419T192502CEST-8790pBitcW@http://bomi40.eu/
DTSTAMP:20260419T172502Z
DESCRIPTION:Was Sie auf dem Event erwartet:Alle sprechen von fahrerlosen Tr
 ansportsystemen. Ist das der richtige Ansatz zu Industrie 4.0? Und was ist
  mit den Mitarbeitern? Und welches FTS ist geeignet für welches Transportg
 ut? Viele offene Fragen\, welche die Veranstalter in der Expertenrunde beh
 andeln.\nMit am Tisch sitzen für den technischen Hintergrund Experten zum 
 Thema FTS\, wie aber auch eine kritische Position: Wir betrachten das Them
 a FTS auch aus Kundensicht: Warum hat sich die Technologie noch nicht durc
 hgesetzt? Was sind die Bedenken\, dass kein fahrerloses Transportsystem zu
 m Einsatz kommt? Mit dabei haben wir auch Partner und Leute vom Fach\, wel
 che die verschiedenen FTS-Modelle vorstellen und klären\, welche Rolle die
  Intralogistiklösung spielt – auf dem Weg zu Industrie 4.0. Wir als L-mobi
 le fungieren dabei als Integrator: Das bedeutet wir bringen die Intralogis
 tiklösung in Ihre vorhandene ERP-Landschaft.\nEin FTS bietet Ihnen einen a
 utomatisierten und transparenten Materialfluss\, verringert Transportschäd
 en und spart viel Zeit ein. Nutzen Sie Ihre Mitarbeiter für effektivere Ar
 beiten als der Transport von Waren oder Material in Ihrem Lager. Bei den T
 ransportmöglichkeiten sind nahezu keine Grenzen gesetzt: Mobile Roboter\, 
 Schlepper oder automatisierte Stapler. Transport von KLT´s\, Paletten oder
  Sondertransporte. Ein fahrerloses Transportsystem erleichtert jeden Trans
 port innerhalb Ihres Lagers / der Fertigung und gewährleistet\, dass immer
  das passende Material am richtigen Ort zur richtigen Zeit ist.Melden Sie 
 sich gleich an und seien Sie Vorreiter in Sachen Digitalisierung und Indus
 trie 4.0!\nDie Veranstaltung ist kostenlos!\nWeitere Informationen zur Ver
 anstaltung befinden sich hier... http://bomi40.eu/de/service-kompetenz/ver
 anstaltungen/ort/event/2460-expertenrunde-zu-industrie-4-0-fahrerlose-tran
 sportsysteme-was-bringt-s-was-koscht-s
DTSTART:20220217T080000Z
DTEND:20220217T090000Z
LOCATION: Online an Ihrem PC oder Laptop ()
SUMMARY:Expertenrunde zu Industrie 4.0: Fahrerlose Transportsysteme – was b
 ringt´s & was koscht´s?
URL:http://bomi40.eu/de/service-kompetenz/veranstaltungen/ort/event/2460-ex
 pertenrunde-zu-industrie-4-0-fahrerlose-transportsysteme-was-bringt-s-was-
 koscht-s
END:VEVENT
END:VCALENDAR
