BEGIN:VCALENDAR
VERSION:2.0
PRODID:-//http://bomi40.eu///NONSGML kigkonsult.se iCalcreator 2.10.15//
METHOD:PUBLISH
BEGIN:VEVENT
UID:20260419T191356CEST-06797GVKRe@http://bomi40.eu/
DTSTAMP:20260419T171356Z
DESCRIPTION:Ein Fuhrparkmanagement kann Ihre Industrie 4.0-Strategie enorm 
 vorantreiben.Das FTS bietet Ihnen einen transparenten Materialfluss\, verr
 ingert Transportschäden und spart viel Zeit ein. Nutzen Sie Ihre Mitarbeit
 er*Innen für effektivere Arbeiten als der Transport von Waren oder Materia
 l in Ihrem Lager.\nErleben Sie an diesem Online-Event innerbetriebliche\, 
 flurgebundene Fördersysteme mit automatisch gesteuerten Fahrzeugen\, deren
  primäre Aufgabe der interne Materialtransport ist. Die Koordination der T
 ransportaufträge übernimmt dabei der Flottenmanager (Fleet).\nWeitere Info
 rmationen zum Porgramm und zur Veranstaltung befinden sich hier... http://
 bomi40.eu/de/service-kompetenz/veranstaltungen/ort/event/2462-transparente
 r-materialfluss-in-der-industrie-durch-fahrerlose-transportsysteme
DTSTART:20220714T070000Z
DTEND:20220714T083000Z
LOCATION: Online an Ihrem PC oder Laptop ()
SUMMARY:Transparenter Materialfluss in der Industrie durch fahrerlose Trans
 portsysteme
URL:http://bomi40.eu/de/service-kompetenz/veranstaltungen/ort/event/2462-tr
 ansparenter-materialfluss-in-der-industrie-durch-fahrerlose-transportsyste
 me
END:VEVENT
END:VCALENDAR
