BEGIN:VCALENDAR
VERSION:2.0
PRODID:-//http://bomi40.eu///NONSGML kigkonsult.se iCalcreator 2.10.15//
METHOD:PUBLISH
BEGIN:VEVENT
UID:20260419T181743CEST-8692nCaM1V@http://bomi40.eu/
DTSTAMP:20260419T161743Z
DESCRIPTION:Smarter Thurgau bietet Unternehmen und oftmals «Hidden Champion
 s» eine Plattform\, damit sie ihre digitale Expedition mit anderen teilen 
 und diskutieren können. Ziel der Veranstaltungsreihe ist es interessierten
  Unternehmen aufzuzeigen\, wie andere Unternehmen das Thema digitale Trans
 formation angehen\, warum sie dies tun und wo sie dabei stehen.\nDie Veran
 staltung ist kostenlos. Die Betriebsbesichtigung ist auf 25 Personen begre
 nzt.\nWeitere Informationen zur Veranstaltung befinden sich hier... http:/
 /bomi40.eu/de/service-kompetenz/veranstaltungen/ort/event/2468-digitaler-w
 erkplatz-thurgau-smarte-innovation-bei-der-geobrugg-ag
DTSTART:20220412T093000Z
DTEND:20220412T113000Z
LOCATION:Geobrugg AG Aachstrasse 11 8590 Romanshorn (Aachstrasse 11\, 8590 
 Romanshorn\, Schweiz)
SUMMARY:Digitaler Werkplatz Thurgau – Smarte Innovation bei der Geobrugg AG
URL:http://bomi40.eu/de/service-kompetenz/veranstaltungen/ort/event/2468-di
 gitaler-werkplatz-thurgau-smarte-innovation-bei-der-geobrugg-ag
END:VEVENT
END:VCALENDAR
