BEGIN:VCALENDAR
VERSION:2.0
PRODID:-//http://bomi40.eu///NONSGML kigkonsult.se iCalcreator 2.10.15//
METHOD:PUBLISH
BEGIN:VEVENT
UID:20260419T192927CEST-2907J0FIG2@http://bomi40.eu/
DTSTAMP:20260419T172927Z
DESCRIPTION:An diesem Workshop diskutieren Vertreter der Liechtensteinische
 n Kraftwerke (LKW) und des Vereins Rheintal IX über den Status des Interne
 ts in Liechtenstein. Zum einen soll Liechtenstein bis Ende 2022 eines der 
 ersten Länder der Welt mit flächendeckendem Glasfasernetz sein und anderse
 its soll überregional ein flächendeckender Ringschluss rund um den Bodense
 e erreicht werden.\nReferenten:Gerald Marxer\, Vorsitzender der Geschäftsl
 eitung Liechtensteinische KraftwerkeThomas Fritz\, Präsident Verein Rheint
 al IXDominic Schallert\, Vorstandsmitglied Verein Rheintal IX\nWeitere Inf
 ormationen zur Veranstaltung befinden sich hier... http://bomi40.eu/de/ser
 vice-kompetenz/veranstaltungen/ort/event/2469-workshop-status-des-internet
 s-in-liechtenstein
DTSTART:20220324T150000Z
DTEND:20220324T163000Z
LOCATION:Technopark Liechtenstein\, 9490 - Vaduz\, LI (Schaanerstrasse 27\,
  9490 Vaduz\, Liechtenstein)
SUMMARY:Workshop: Status des Internets in Liechtenstein
URL:http://bomi40.eu/de/service-kompetenz/veranstaltungen/ort/event/2469-wo
 rkshop-status-des-internets-in-liechtenstein
END:VEVENT
END:VCALENDAR
