BEGIN:VCALENDAR
VERSION:2.0
PRODID:-//http://bomi40.eu///NONSGML kigkonsult.se iCalcreator 2.10.15//
METHOD:PUBLISH
BEGIN:VEVENT
UID:20260419T194103CEST-3952pBZNhB@http://bomi40.eu/
DTSTAMP:20260419T174103Z
DESCRIPTION:Die Veranstalter*innen freuen sich\, Sie am Donnerstag\, 23. Ju
 ni 2022 zum 15. Swissmem Industrietag in Dübendorf einzuladen. Dieses Mal 
 stellen die Veranstalter*innendas Thema «Sicherheit» ins Zentrum und analy
 sieren mit Branchenvertreterinnen und -vertretern sowie Fachleuten die akt
 uelle Situation\, identifizieren Risiken und loten die Möglichkeiten aus\,
  wie sich Unternehmen schützen können.\nUnter dem Titel «Im Fadenkreuz – S
 icherheit und Resilienz für Industrie und Gesellschaft» greifen wir deshal
 b am kommenden Swissmem Industrietag dieses bedeutende Thema auf. Welche G
 efahren drohen der Industrie und wie können sich die Firmen schützen? Dies
 en Fragen gehen wir in Referaten und zwei Paneldiskussionen auf den Grund.
 \nDas vollständige Programm erscheint Mitte April 2022.\nWeitere Informati
 onen zur Veranstaltung befinden sich hier... http://bomi40.eu/de/service-k
 ompetenz/veranstaltungen/ort/event/2470-swissmem-industrietag-2022-reservi
 eren-sie-sich-das-datum
DTSTART:20220623T113000Z
DTEND:20220623T140000Z
LOCATION:THE HALL (ehemals Samsung Hall) Dübendorf (Hoffnigstrasse 1\, 8600
  Dübendorf\, Schweiz)
SUMMARY:Swissmem Industrietag 2022: Reservieren Sie sich das Datum!
URL:http://bomi40.eu/de/service-kompetenz/veranstaltungen/ort/event/2470-sw
 issmem-industrietag-2022-reservieren-sie-sich-das-datum
END:VEVENT
END:VCALENDAR
