BEGIN:VCALENDAR
VERSION:2.0
PRODID:-//http://bomi40.eu///NONSGML kigkonsult.se iCalcreator 2.10.15//
METHOD:PUBLISH
BEGIN:VEVENT
UID:20260419T194216CEST-5192LbOpHB@http://bomi40.eu/
DTSTAMP:20260419T174216Z
DESCRIPTION:Wie können Wertschöpfungssysteme in Regionen stabilisiert und g
 leichzeitig eine sozial- und umweltverträgliche Entwicklung vorangetrieben
  werden? Anhand von Fallbeispielen und wissenschaftlichem Input soll diese
  Frage bei der digitalen Tagung der Zeppelin Universität und Schader-Stift
 ung praxisnah diskutiert werden.\nMit dieser Veranstaltung wollen die Vera
 nstalter*innen ein Schlaglicht auf diese Fragestellung lenken. Dabei soll 
 das Thema anhand von zwei konkreten Projekten interaktiv diskutiert werden
 \, das Bodensee Innovation Cluster (BIC) sowie die Projekte der Regionalwe
 rt AG\, einer Bürgeraktiengesellschaft.\nSowohl die Regionalwert AG Freibu
 rg als auch das BIC des LEIZ sind zentrale Akteure\, um die Transformation
  lokaler Räume mit nachhaltiger Perspektive voranzutreiben. Besonders das 
 zukunftsfähige Vorgehen der beiden Akteure trägt zu einem nachhaltigen Res
 sourcenumgang bei. Zum Abschluss sollen auch die übergeordneten\, gesellsc
 haftlichen Grundsatzfragen in den Blick genommen werden.\nAnmeldung\nWeite
 re Informationen zum Programm folgen.\nWeitere Informationen zur Veranstal
 tung befinden sich hier... http://bomi40.eu/de/service-kompetenz/veranstal
 tungen/ort/event/2471-resilienz-innovation-die-nachhaltige-transformation-
 regionaler-netzwerke
DTSTART:20220314T120000Z
DTEND:20220314T160000Z
LOCATION: Online an Ihrem PC oder Laptop ()
SUMMARY:Resilienz & Innovation — Die nachhaltige Transformation regionaler 
 Netzwerke
URL:http://bomi40.eu/de/service-kompetenz/veranstaltungen/ort/event/2471-re
 silienz-innovation-die-nachhaltige-transformation-regionaler-netzwerke
END:VEVENT
END:VCALENDAR
