BEGIN:VCALENDAR
VERSION:2.0
PRODID:-//http://bomi40.eu///NONSGML kigkonsult.se iCalcreator 2.10.15//
METHOD:PUBLISH
BEGIN:VEVENT
UID:20260419T202703CEST-7117tRDDzW@http://bomi40.eu/
DTSTAMP:20260419T182703Z
DESCRIPTION:Es ist nie zu früh\, sich um seine Vorsorge zu kümmern. In komp
 akter Form vermittelt der Arbeitgeberverband Basel in Zusammenarbeit mit e
 xternen Referenten der Baloise Grundwissen zu verschiedenen Themen der Vor
 sorge- und Vermögensthematik. Der Anlass wird mit einem anschliessenden Au
 stausch und Stehlunch abgerundet.\nDas «Vorsorgeplanung@Lunch 2022» behand
 elt die Themen des Schweizer Vorsorgesystems. Dabei werden folgende Fragen
  behandelt und diskutiert: Was verstehen Sie unter Vorsorgelücke? Was beei
 nflusst den Umwandlungssatz in der Pensionskasse? Wie sehen die gesetzlich
 en Leistungen der AHV und IV aus? Was kann Sparen für Auswirkungen haben? 
 Wie lege ich mein Vermögen richtig an? Zu diesen und weiteren Fragestellun
 gen wird das Referat Antworten geben.\nDas Seminar richtet sich insbesonde
 re auch an jüngere Arbeitnehmerinnen und Arbeitnehmer\, die ihre Vorsorgep
 lanung rechtzeitig aktiv angehen wollen.\nWeitere Informationen zur Verans
 taltung befinden sich hier... http://bomi40.eu/de/service-kompetenz/verans
 taltungen/ort/event/2477-da-treffen-sich-die-richtigen
DTSTART:20220426T093000Z
DTEND:20220426T110000Z
LOCATION:Basler Versicherungen\, Aeschengraben 21\, 4002 Basel (Aeschengrab
 en 21\, 4051 Basel\, Schweiz)
SUMMARY:Da treffen sich die Richtigen
URL:http://bomi40.eu/de/service-kompetenz/veranstaltungen/ort/event/2477-da
 -treffen-sich-die-richtigen
END:VEVENT
END:VCALENDAR
