BEGIN:VCALENDAR
VERSION:2.0
PRODID:-//http://bomi40.eu///NONSGML kigkonsult.se iCalcreator 2.10.15//
METHOD:PUBLISH
BEGIN:VEVENT
UID:20260419T205332CEST-6539goV9FJ@http://bomi40.eu/
DTSTAMP:20260419T185332Z
DESCRIPTION:In der hybriden Veranstaltung können Sie sich zum Netzwerk KI C
 ampus Ostbayern informieren und erhalten in drei Impulsvorträgen Einblicke
  in den praxisnahen Einsatz von KI im Bereich Gesundheit. Darüber hinaus h
 aben Sie die Möglichkeit\, sich mit der Referentin und den Referenten sowi
 e weiteren Teilnehmerinnen und Teilnehmern aus Wissenschaft und Wirtschaft
  zu konkreten Herausforderungen in der Praxis auszutauschen.\nEs erwarten 
 Sie:- Informationen zum Netzwerk KI Campus Ostbayern - Impulsvorträge zum 
 Einsatz von KI im Bereich Gesundheit - Diskussionsrunden in Breakout Sessi
 ons zum persönlichen Austausch mit Wissenschaftler:innen und weiteren Unte
 rnehmensvertreter:innen zu von Ihnen gewählten Themen im Bereich KI\nZielg
 ruppen:- Unternehmensvertreter:innen: Geschäftsführer:innen\, Fach- und Fü
 hrungskräfte und Projektleiter:innen aller betrieblichen Funktionen mit In
 teresse und/oder Praxisbezug zu KI sowie Interessierte am Thema KI - Ärzti
 nnen und Ärzte sowie weiteres medizinisches Personal mit Interesse am Them
 a KI - Wissenschaftler:innen der ostbayerischen Hochschulen - weitere Einr
 ichtungen und Netzwerke im Themenfeld KI\nAnmeldung\nWeitere Informationen
  zur Veranstaltung befinden sich hier... http://bomi40.eu/de/service-kompe
 tenz/veranstaltungen/ort/event/2484-ki-campus-ostbayern-ki-anwendungen-in-
 der-gesundheit
DTSTART:20220517T140000Z
DTEND:20220517T163000Z
LOCATION:TH Deggendorf\, ITC2\, Dieter-Görlitz-Platz 1 94469 Deggendorf  (D
 ieter-Görlitz-Platz 1\, 94469 Deggendorf\, Deutschland)
SUMMARY:KI Campus Ostbayern: KI-Anwendungen in der Gesundheit
URL:http://bomi40.eu/de/service-kompetenz/veranstaltungen/ort/event/2484-ki
 -campus-ostbayern-ki-anwendungen-in-der-gesundheit
END:VEVENT
END:VCALENDAR
