BEGIN:VCALENDAR
VERSION:2.0
PRODID:-//http://bomi40.eu///NONSGML kigkonsult.se iCalcreator 2.10.15//
METHOD:PUBLISH
BEGIN:VEVENT
UID:20260419T203557CEST-5936pDGMRd@http://bomi40.eu/
DTSTAMP:20260419T183557Z
DESCRIPTION:Das Digital Finance Forum ist die neue Leuchtturm-Veranstaltung
  für den Finanzplatz Liechtenstein. Die Tagung fokussiert auf moderne Fina
 nztechnologien und digitale Transformation.Am Digital Finance Forum vernet
 zen sich Entscheidungsträger aus der Finanzbranche mit Innovatoren und Fin
 tech-Startups.\nDas Programm beinhaltet hochkarätige Keynotes und Panels m
 it Visionären und Spezialisten aus der Praxis ebenso wie Breakout-Sessions
  mit konkreten Best-practice-Beispielen.\nSpeaker: Daniel Risch\, Julian T
 eicke\, Marianne Wildi\, Niklas Nikolajsen\, Thomas Nägele\, Andi Lüscher
 \nKosten: CHF 350.- exklusive Mehrwertsteuer (inkludiert Eintritt\, Teilne
 hmerliste und Networking-Apéro).\nAnmeldeschluss: 18. Mai 2022\nWeitere In
 formationen zur Veranstaltung und zur Anmeldung befinden sich hier... http
 ://bomi40.eu/de/service-kompetenz/veranstaltungen/ort/event/2485-digital-f
 inance-forum-wie-die-digitalisierung-die-finanzwelt-transformiert
DTSTART:20220530T103000Z
DTEND:20220530T153000Z
LOCATION:Vaduzer Saal\, Giessenstrasse 7\, 9490 Vaduz (Giessenstrasse 7\, 9
 490 Vaduz\, Liechtenstein)
SUMMARY:digital finance forum: Wie die Digitalisierung die Finanzwelt trans
 formiert
URL:http://bomi40.eu/de/service-kompetenz/veranstaltungen/ort/event/2485-di
 gital-finance-forum-wie-die-digitalisierung-die-finanzwelt-transformiert
END:VEVENT
END:VCALENDAR
