BEGIN:VCALENDAR
VERSION:2.0
PRODID:-//http://bomi40.eu///NONSGML kigkonsult.se iCalcreator 2.10.15//
METHOD:PUBLISH
BEGIN:VEVENT
UID:20260419T192739CEST-0345moTOrX@http://bomi40.eu/
DTSTAMP:20260419T172739Z
DESCRIPTION:Deep Learning und Neuronale Netze sind nur eine von vielen Mögl
 ichkeiten\, um KI’s auf Daten zu trainieren. Diese trainierten KI’s lassen
  sich für unterschiedliche Bereiche und vielfältige Aufgaben einsetzen. Zu
 m Bespiel für das Klassifizieren von Bildern\, um defekte Bauteile schon w
 ährend der Produktion zu erkennen\, oder für Sprachmodelle\, die uns beim 
 Schreiben von E-Mails unterstützen.\nDoch wie funktionieren Modelle wie De
 ep Learning und Neuronale Netze? Wie werden sie trainiert? Und wie können 
 Deep Learning Modelle mittels dem Open Source Tool KNIME Analytics Platfor
 m ohne eine Zeile Code implementiert werden?\nDas Projekt Popup Labor BW w
 ird vom Ministerium für Wirtschaft\, Arbeit und Tourismus Baden-Württember
 g im Rahmen des Projekts „Innovationswerkstatt Baden-Württemberg“ geförder
 t. Es richtet sich gezielt an kleine und mittlere Unternehmen (KMU) in der
  Region\, um sie unmittelbar und ortsnah bei der Umsetzung von Innovatione
 n zu unterstützen.\nAnmeldung\nWeitere Informationen zur Veranstaltung bef
 inden sich hier... http://bomi40.eu/de/service-kompetenz/veranstaltungen/o
 rt/event/2491-einfuehrung-in-codeless-deep-learning-mit-der-open-source-so
 ftware-knime-analytics-platform
DTSTART:20220602T120000Z
DTEND:20220602T133000Z
LOCATION:78467 farm – Konstanzer Innovationsarea (78467 Konstanz\, Deutschl
 and)
SUMMARY:Einführung in Codeless Deep Learning mit der Open-Source-Software K
 NIME Analytics Platform
URL:http://bomi40.eu/de/service-kompetenz/veranstaltungen/ort/event/2491-ei
 nfuehrung-in-codeless-deep-learning-mit-der-open-source-software-knime-ana
 lytics-platform
END:VEVENT
END:VCALENDAR
