BEGIN:VCALENDAR
VERSION:2.0
PRODID:-//http://bomi40.eu///NONSGML kigkonsult.se iCalcreator 2.10.15//
METHOD:PUBLISH
BEGIN:VEVENT
UID:20260419T191410CEST-1577oc8CVA@http://bomi40.eu/
DTSTAMP:20260419T171410Z
DESCRIPTION:Der Verein Smarter Thurgau lädt ein zu Impuls\, Podium und Netz
 werk rund um die diesjährige Generalversammlung. Das BZT Frauenfeld ist ge
 nau der richtige Ort\, um sich der Arbeitswelt von morgen zu widmen. Seien
  Sie dabei!\nDer Innovationstag Smarter Thurgau 2022 beleuchtet in diesem 
 Kontext die folgenden Themen:\nWie kann ich mich entwickeln\, um kurz- und
  langfristig nicht aufs Abstellgleis zu geraten? Wie kann und muss ich als
  Unternehmen meine Mitarbeitenden fördern und fordern\, um notwendige Komp
 etenzen im Unternehmen zu halten und zu entwickeln? Wie gestalte ich mein 
 Unternehmen in der neuen Arbeitswelt?\nDie Veranstaltung ist kostenlos und
  steht allen interessierten Personen offen.\nWeitere Informationen zur Ver
 anstaltung befinden sich hier... http://bomi40.eu/de/service-kompetenz/ver
 anstaltungen/ort/event/2498-arbeitswelt-smarterthurgau-und-gv
DTSTART:20220830T130000Z
DTEND:20220830T180000Z
LOCATION:Kurzenerchingerstrasse 8 8500 Frauenfeld (Kurzenerchingerstrasse 8
 \, 8500 Frauenfeld\, Schweiz)
SUMMARY:Arbeitswelt@SmarterThurgau und GV
URL:http://bomi40.eu/de/service-kompetenz/veranstaltungen/ort/event/2498-ar
 beitswelt-smarterthurgau-und-gv
END:VEVENT
END:VCALENDAR
