BEGIN:VCALENDAR
VERSION:2.0
PRODID:-//http://bomi40.eu///NONSGML kigkonsult.se iCalcreator 2.10.15//
METHOD:PUBLISH
BEGIN:VEVENT
UID:20260419T202658CEST-2256lfrzvk@http://bomi40.eu/
DTSTAMP:20260419T182658Z
DESCRIPTION: http://bomi40.eu/de/service-kompetenz/veranstaltungen/ort/even
 t/25-nationaler-it-gipfel-2016
DTSTART:20161116T080000Z
DTEND:20161117T170000Z
LOCATION:Saarbrücken (Hafenstraße 12\, 66111 Saarbrücken\, Deutschland)
SUMMARY:Nationaler IT-Gipfel 2016
URL:http://bomi40.eu/de/service-kompetenz/veranstaltungen/ort/event/25-nati
 onaler-it-gipfel-2016
END:VEVENT
END:VCALENDAR
