BEGIN:VCALENDAR
VERSION:2.0
PRODID:-//http://bomi40.eu///NONSGML kigkonsult.se iCalcreator 2.10.15//
METHOD:PUBLISH
BEGIN:VEVENT
UID:20260419T192803CEST-77875L2V0a@http://bomi40.eu/
DTSTAMP:20260419T172803Z
DESCRIPTION:Wie schafft man es als KMU eine digitale Infrastruktur aufzubau
 en\, die skalierbar ist und einen messbaren Nutzen liefert? Insellösungen 
 waren die Art und Weise\, wie Softwarelösungen in der Vergangenheit angebo
 ten wurden. Doch damit bleiben die Potenziale verschlossen\, die sich dara
 us ergeben\, wenn Informationen aus ganz verschiedenen betrieblichen Daten
 quellen zusammengefügt werden. Außerdem stellt sich die Frage\, wem die be
 triebliche Dateninfrastruktur eigentlich gehört\, welche Mehrwerte sich au
 s der Dateninfrastruktur selbst ableiten oder und wie digitale Dienstleist
 ungen unterschiedlicher Anbieter integriert werden können. Wie kann also e
 in integriertes Datenökosystem geschaffen werden\, welches einfach impleme
 ntiert werden kann\, anbieterunabhängig ist\, mit dem Fortschreiten der Di
 gitalisierung mitwächst und messbare finanzielle Mehrwerte schafft?\nIm Ra
 hmen der Veranstaltung „Datenökosysteme“ stellen Helen Landhäußer\, Geschä
 ftsführerin von LOOXR\, und Ralf Tesch\, Geschäftsführer Nutreon Engineeri
 ng\, ihren gemeinsamen Ansatz zur Co-Creation ihres digitalen Ökosystems v
 or. Sie zeigen auf\, wie sie einen messbaren Mehrwert durch die digitale V
 ernetzung gemeinsam erzielen: dezentral\, unkonventionell und authentisch 
 und vertrauensvoll.&nbsp\;\nDie Veranstaltung richtet sich an interessiert
 e Fach- und Führungskräfte aus KMU und großen Unternehmen\, die ein wegwei
 sendes Beispiel kennenlernen möchten\, wie man aus der Produktwelt in die 
 digitale Servicewelt mittels innovativer Datenökosysteme und der gemeinsam
 en Gestaltung digitaler Serviceleistungen gelangt. Neben dem Fachvortrag w
 ird die Möglichkeit eines aktiven Erfahrungsaustausches geboten.\nEine Anl
 eitung zur Anmeldung finden Sie hier...\nAnmeldung\nWeitere Informationen 
 zur Veranstaltung befindet sich hier... http://bomi40.eu/de/service-kompet
 enz/veranstaltungen/ort/event/2501-datenoekosysteme-geschaeftsmodelle-durc
 h-daten
DTSTART:20220704T140000Z
DTEND:20220704T170000Z
LOCATION:bwcon GmbH Geschäftsstelle Stuttgart / Raum Lake Constance (Seyffe
 rstraße 34\, 70197 Stuttgart\, Deutschland)
SUMMARY:Datenökosysteme – Geschäftsmodelle durch Daten
URL:http://bomi40.eu/de/service-kompetenz/veranstaltungen/ort/event/2501-da
 tenoekosysteme-geschaeftsmodelle-durch-daten
END:VEVENT
END:VCALENDAR
