BEGIN:VCALENDAR
VERSION:2.0
PRODID:-//http://bomi40.eu///NONSGML kigkonsult.se iCalcreator 2.10.15//
METHOD:PUBLISH
BEGIN:VEVENT
UID:20260419T190940CEST-971370MaUd@http://bomi40.eu/
DTSTAMP:20260419T170940Z
DESCRIPTION:Im Seminar erläutert Théo die Relevanz von Cyber Security im Al
 lgemeinen und zeigt Ihnen\, was beim grundlegenden Aufbau von Softwarestru
 kturen beachtet werden sollte.\nEr gibt Tipps und Tricks\, wie man Apps fr
 ühzeitig absichern und Sicherheit über den gesamten Lebenszyklus hinweg ge
 währleisten kann.\nWie immer bei den M.TECH Seminaren bleibt für Sie viel 
 Zeit für Ihre Fragen – mit seinem Erfahrungsschatz kann Théo individuell a
 uf Euch eingehen.\nDas Seminar wird auf Englisch stattfinden\, bei Verstän
 dnisproblemen können wir jedoch auch kurz ins Deutsche wechseln.\nMelden S
 ie sich direkt per Email bei christoph.gelzer@region-stuttgart.de an!\nWei
 tere Informationen zur Veranstaltung befinden sich hier... http://bomi40.e
 u/de/service-kompetenz/veranstaltungen/ort/event/2502-cyber-security-works
 hop-m-tech
DTSTART:20220707T120000Z
DTEND:20220707T140000Z
LOCATION:bwcon GmbH Geschäftsstelle Stuttgart / Raum Lake Constance (Seyffe
 rstraße 34\, 70197 Stuttgart\, Deutschland)
SUMMARY:Cyber Security Workshop @M.TECH
URL:http://bomi40.eu/de/service-kompetenz/veranstaltungen/ort/event/2502-cy
 ber-security-workshop-m-tech
END:VEVENT
END:VCALENDAR
