BEGIN:VCALENDAR
VERSION:2.0
PRODID:-//http://bomi40.eu///NONSGML kigkonsult.se iCalcreator 2.10.15//
METHOD:PUBLISH
BEGIN:VEVENT
UID:20260419T191356CEST-0188JUVTu1@http://bomi40.eu/
DTSTAMP:20260419T171356Z
DESCRIPTION:- Reichen Sie Ihren Pitch bis zum 9. August 2022 ein! -\nIm Zei
 talter der Digitalisierung hängt die datenbasierte Wertschöpfung von globa
 len Datenräumen ab\, die Datenhoheit\, -sicherheit und -integrität gewährl
 eisten. Die Plattform Industrie 4.0 treibt die Entwicklung einer gemeinsam
 en Basis für die Implementierung offener und föderierter digitaler Ökosyst
 eme voran: ein einheitliches Framework\, das multilaterales Teilen von Dat
 en innerhalb des gesamten Produktionsnetzwerkes ermöglicht und die Umsetzu
 ng interoperabler Daten-Ökosysteme der industriellen Fertigung und Produkt
 ion beschleunigt.\nFür den Aufbau von Datenräumen in der Industrie 4.0 bed
 arf es eines kontinuierlichen Austauschs zwischen allen beteiligten Akteur
 en aus Wirtschaft und Forschung. So werden Informationen\, Vorhaben\, Posi
 tionen und Ergebnisse für alle transparent und es gelingt eine gute Zusamm
 enarbeit sowie Rollenteilung. Um diesen Austausch und Wissenstransfer zu e
 rmöglichen\, laden die Plattform Industrie 4.0 und der Gaia-X Hub Deutschl
 and am 12. September 2022 zu einem Pitchday in die Räumlichkeiten des VDMA
  in Frankfurt am Main ein.\nProjekte\, Vorhaben und Initiativen aus dem Be
 reich Industrie 4.0 stellen in kurzen Pitches vor\, wie sie als Taktgeber 
 der industriellen Digitalisierung zur Entwicklung und Etablierung industri
 eller und interoperabler Datenräume in der Industrie 4.0 beitragen.\nIn fo
 lgenden Kategorien können Sie Pitches einreichen:Datenmodelle\, Konzepte u
 nd Standards Rechtlicher Rahmen und Betreibermodell(e) Anwendungsfälle\, U
 msetzungsprojekte und Skalierungsansatz\nReichen Sie hier einen Abstract u
 nd weitere Informationen zur Ihrem Projekt ein!\nNeben den Pitches bietet 
 die Veranstaltung die Möglichkeit zum Austausch\, Networking und einer the
 menbezogenen Diskussion.\nWeitere Informationen zur Veranstaltung befinden
  sich hier... http://bomi40.eu/de/service-kompetenz/veranstaltungen/ort/ev
 ent/2511-call-for-papers-pitchday-datenraum-industrie-4-0
DTSTART;VALUE=DATE:20220912
LOCATION:VDMA Frankfurt (Lyoner Str. 18\, 60528 Frankfurt am Main\, Deutsch
 land)
SUMMARY:Call for Papers: Pitchday Datenraum Industrie 4.0
URL:http://bomi40.eu/de/service-kompetenz/veranstaltungen/ort/event/2511-ca
 ll-for-papers-pitchday-datenraum-industrie-4-0
END:VEVENT
END:VCALENDAR
