BEGIN:VCALENDAR
VERSION:2.0
PRODID:-//http://bomi40.eu///NONSGML kigkonsult.se iCalcreator 2.10.15//
METHOD:PUBLISH
BEGIN:VEVENT
UID:20260419T192650CEST-5823WiJvS9@http://bomi40.eu/
DTSTAMP:20260419T172650Z
DESCRIPTION:Innovationen für die Zukunft des Werkplatzes ThurgauEs erwarten
  Sie Top-Referate\, eine geführte Besichtigung des modernsten Kühlschrankw
 erkes Europas und ein Netzwerkapéro.\nThemaDie Zukunft des Werkplatzes Thu
 rgau ist dieses Jahr ein Leitthema des Thurgauer Technologieforums. Diesem
  Schwerpunkt war schon der Thurgauer Technologietag im Juni gewidmet. Nun 
 nimmt die Sonderveranstaltung das Thema wieder auf und vertieft es: Wie kö
 nnen Unternehmen Innovationen nutzen\, um am Standort Thurgau wirtschaftli
 ch zu produzieren?\nBekenntnis zum Standort ThurgauDer Austragungsort der 
 Sonderveranstaltung\, die V-ZUG Kühltechnik AG\, hat mit dem neuen Werk in
  Sulgen ein Bekenntnis zum Produktionsstandort Thurgau abgegeben. Es ist d
 as einzige Kühlschrankwerk der Schweiz. CEO Andreas Albrecht wird an der V
 eranstaltung den Standortentscheid erläutern und über die Wahl der Technol
 ogien und Systeme für das neue Produktionswerk berichten. Ausserdem wird e
 r auch auf den zugrundeliegenden Kulturwandel im Unternehmen und die Anspr
 üche an das Team eingehen.\nSchlüsselfaktoren für das Bestehen am MarktSch
 lüsselfaktoren für das Bestehen am Markt: Die Verbindung von angewandter F
 orschung und unternehmerischer Innovation wird der zweite Referent\, Prof.
  Stefan Grätzer\, Professor für Industrielle Automation an der OST – Ostsc
 hweizer Fachhochschule\, herstellen. Für ihn sind Innovations- und Tech-no
 logiemanagement Schlüsselfaktoren für den künftigen Erfolg und das Bestehe
 n in den hart umkämpften Märkten. Er wird unter anderem eine unternehmeris
 che Definition von Innovation vorstellen und aktuell interessante Technolo
 gien präsentieren.\nProgramm\nDie Sonderverantstaltung ist kostenlos. Um d
 ie Planung zu erleichtern\, wird jedoch um Anmeldung gebeten.\nWeitere Inf
 ormationen zur Veranstaltung befinden sich hier...\n&nbsp\; http://bomi40.
 eu/de/service-kompetenz/veranstaltungen/ort/event/2536-sonderveranstaltung
 -thurgauer-technologieforum-innovationen-fuer-die-zukunft-des-werkplatzes-
 thurgau
DTSTART:20221117T140000Z
DTEND:20221117T180000Z
LOCATION:V-ZUG Kühltechnik AG\, Zelgstrasse 10\, 8583 Sulgen (Zelgstrasse 1
 0\, 8583 Sulgen\, Schweiz)
SUMMARY:Sonderveranstaltung Thurgauer Technologieforum: 'Innovationen für d
 ie Zukunft des Werkplatzes Thurgau'
URL:http://bomi40.eu/de/service-kompetenz/veranstaltungen/ort/event/2536-so
 nderveranstaltung-thurgauer-technologieforum-innovationen-fuer-die-zukunft
 -des-werkplatzes-thurgau
END:VEVENT
END:VCALENDAR
