BEGIN:VCALENDAR
VERSION:2.0
PRODID:-//http://bomi40.eu///NONSGML kigkonsult.se iCalcreator 2.10.15//
METHOD:PUBLISH
BEGIN:VEVENT
UID:20260419T180804CEST-03040pgNov@http://bomi40.eu/
DTSTAMP:20260419T160804Z
DESCRIPTION:Das Face-To-Face der Profis\nAuf der all about automation erleb
 en Sie Systeme\, Komponenten\, Software und Engineering für industrielle A
 utomation und industrielle Kommunikation. Hersteller*innen\, Distributoren
 *innen und Dienstleister*innen vernetzen sich auf der all about automation
  in Friedrichshafen mit den Anwendern aus der internationalen Bodenseeregi
 on und ganz Süddeutschland.\nBesucher*innen und Aussteller*innen kommen an
  den Ständen schnell und unkompliziert miteinander ins Gespräch und erarbe
 iten gemeinsam die individuell passende Automatisierungslösung.\nAusstelle
 rliste\nTagesticket: 20 €\nTagesticket für Schüler*innen/Student*innen: 10
  € (Kauf nur vor Ort möglich)\nTicket\n&nbsp\;\nÖffnungszeiten\nDienstag\,
  7. März 2023: 09:00 - 17:00 Uhr\nMittwoch\, 8. März 2023: 09:00 - 16:00 U
 hr\n&nbsp\;\nWeitere Informationen zur Veranstaltung befinden sich hier...
 \n&nbsp\;\n&nbsp\; http://bomi40.eu/de/service-kompetenz/veranstaltungen/o
 rt/event/2544-all-about-automation-automatisierung-in-der-bodenseeregion
DTSTART:20230308T080000Z
DTEND:20230308T150000Z
LOCATION: Messe Friedrichshafen (Neue Messe 1\, 88046 Friedrichshafen\, Deu
 tschland)
SUMMARY:All about automation - Automatisierung in der Bodenseeregion
URL:http://bomi40.eu/de/service-kompetenz/veranstaltungen/ort/event/2544-al
 l-about-automation-automatisierung-in-der-bodenseeregion
END:VEVENT
END:VCALENDAR
