BEGIN:VCALENDAR
VERSION:2.0
PRODID:-//http://bomi40.eu///NONSGML kigkonsult.se iCalcreator 2.10.15//
METHOD:PUBLISH
BEGIN:VEVENT
UID:20260419T174549CEST-94679FtbGV@http://bomi40.eu/
DTSTAMP:20260419T154549Z
DESCRIPTION:Was Sie erwartet\nVerschiedene Formen der Vernetzung kennzeichn
 en die Mobilität im Sinne einer „Connected Mobility“. Dazu zählen neben de
 r nahtlosen Kommunikation zwischen unterschiedlichen Verkehrsträgern und d
 er durchgängigen Planung von Fahrten im intermodalen Verkehr auch der Date
 naustausch nahezu in Echtzeit zwischen Fahrzeugen untereinander und der um
 liegenden Infrastruktur sowie die intelligente Routenoptimierung auf Basis
  von Erfahrungen. Durch all diese Formen der Vernetzung werden Staus vermi
 eden\, die Sicherheit auf den Straßen erhöht und Schadstoffemissionen redu
 ziert. Nicht zuletzt bilden sich um diese vernetzte Mobilität zahlreiche n
 eue Geschäftsmodelle.\nDazu wird Markus Beller\, Senior IT Consultant bei 
 doubleSlash Net-Business GmbH\, in seiner Keynote einen Einblick in die Me
 chanismen\, Herausforderungen und zukünftigen Geschäftsfelder der Automobi
 lindustrie geben.\nWie kann und muss Connected Mobility aussehen und funkt
 ionieren\, um den wachsenden Bedarf an Mobilität zu optimieren? Welche Tec
 hnologien ermöglichen eine effiziente und nachhaltig vernetzte Mobilität? 
 Welche Herausforderungen müssen gelöst werden?\ncyberLAGO\, die IWT Wirtsc
 haft und Technik GmbH und das RITZ Regionales Innovations- und Technologie
 transfer Zentrum laden Sie herzlich zur Veranstaltung „Connected Mobility“
  am 30. November ein\, um Antworten auf ebendiese Fragen zu finden.\nDabei
  sind auch Sie mit Ihrer Expertise und Erfahrung gefragt! Bringen Sie sich
  ein!\n&nbsp\;\nKosten: Die Veranstaltung ist kostenfrei\, eine Anmeldung 
 ist erforderlich.\nAnmeldung\nEinlass ab 16:30 Uhr\nWeitere Informationen 
 zur Veranstaltung befinden sich hier...&nbsp\;\n&nbsp\;\n&nbsp\; http://bo
 mi40.eu/de/service-kompetenz/veranstaltungen/ort/event/2545-connected-mobi
 lity
DTSTART:20221130T160000Z
DTEND:20221130T200000Z
LOCATION:RITZ Regionales Innovations- und Technologietransfer Zentrum (Fall
 enbrunnen 14\, 88045 Friedrichshafen\, Deutschland)
SUMMARY:Connected Mobility
URL:http://bomi40.eu/de/service-kompetenz/veranstaltungen/ort/event/2545-co
 nnected-mobility
END:VEVENT
END:VCALENDAR
