BEGIN:VCALENDAR
VERSION:2.0
PRODID:-//http://bomi40.eu///NONSGML kigkonsult.se iCalcreator 2.10.15//
METHOD:PUBLISH
BEGIN:VEVENT
UID:20260419T194455CEST-1039dHzeEV@http://bomi40.eu/
DTSTAMP:20260419T174455Z
DESCRIPTION:3. Innovationsforum Ernährungswirtschaft\nAm 3. Innovationsforu
 m Ernährungswirtschaft in Tänikon präsentieren namhafte Unternehmen\, Star
 tups und Forschungsinstitutionen ihre Produkte\, Studien und Projekte zum 
 Thema Kreislaufwirtschaft. Auf einem Rundgang auf dem Areal der Swiss Futu
 re Farm stellen die Beteiligten ihre Erkenntnisse und Forschungsfragen vor
  und tauschen sich mit den Teilnehmenden aus. Netzwerk-Pflege und Wissensa
 ustausch stehen im Zentrum dieser Tagung.\nHinweis: Bitte wetterfeste Klei
 dung und gutes Schuhwerk tragen. Teile der Veranstaltung finden im Aussenb
 ereich statt.\n&nbsp\;\nProgramm (Vorträge finden zeitgleich statt. Bitte 
 wählen Sie bei der Anmeldung Ihr bevorzugtes Vortragsthema aus)\nKosten: C
 HF 80\,- (Studierende gratis)\nAnmeldung (bis 1. Dezember 2022)\nWeitere I
 nformationen zur Veranstaltung befinden sich hier...\n&nbsp\; http://bomi4
 0.eu/de/service-kompetenz/veranstaltungen/ort/event/2553-innovationsforum-
 ernaehrungswirtschaft-kreislaufwirtschaft-als-loesung
DTSTART:20221208T073000Z
DTEND:20221208T154500Z
LOCATION: Swiss Future Farm\, Tänikon (Tanikon 1\, 8356 Aadorf\, Schweiz)
SUMMARY:Innovationsforum Ernährungswirtschaft: Kreislaufwirtschaft als Lösu
 ng
URL:http://bomi40.eu/de/service-kompetenz/veranstaltungen/ort/event/2553-in
 novationsforum-ernaehrungswirtschaft-kreislaufwirtschaft-als-loesung
END:VEVENT
END:VCALENDAR
