BEGIN:VCALENDAR
VERSION:2.0
PRODID:-//http://bomi40.eu///NONSGML kigkonsult.se iCalcreator 2.10.15//
METHOD:PUBLISH
BEGIN:VEVENT
UID:20260419T193620CEST-8475Mjbr45@http://bomi40.eu/
DTSTAMP:20260419T173620Z
DESCRIPTION:Das jährlich wiederkehrende\, vorweihnachtliche CHANCENLAND VOR
 ARLBERG Netzwerktreffen in Bregenz bringt Vorarlberger Unternehmen und Stu
 dierende auf unkonventionelle Art und in offener Atmosphäre zusammen.\nUnt
 ernehmensinsightsDas Hauptaugenmerk liegt darauf\, den Studierenden die Un
 ternehmen\, deren Karrierechancen\, Praktika und Abschlussarbeiten\, Innov
 ationen\, Materialien\, Technologien und Produkte etc. anschaulich näherzu
 bringen sowie die Möglichkeit zu bieten\, persönliche Kontakte zu Unterneh
 mensvertreter*innenInnen zu knüpfen.\nMotto: KrimidinnerMit unseren Mottos
 \, der besonderen Gestaltung und dem spielerischen Ansatz hebt sich das Ne
 tzwerktreffen von herkömmlichen Karriere-Events ab. Unter dem diesjährigen
  Motto „Krimidinner“ präsentieren sich 25 Unternehmen rund 200 Studierende
 n auf spielerische\, interaktive Weise.\nTeilnahmeUnternehmen\, die an ein
 er Teilnahme an unseren CHANCENLAND VORARLBERG Netzwerktreffen oder sonsti
 gen CHANCENLAND VORARLBERG-Aktivitäten interessiert sind\, wenden sich bit
 te an Angelina Schloß.\nZu Chancenland VoralbergDie Fachkräfteinitiative C
 HANCENLAND VORARLBERG zielt darauf ab\, Vorarlberg als attraktiven Karrier
 estandort zu kommunizieren. Karrierechancen werden aufgezeigt und das Bewu
 sstsein für die starke Wirtschaft in Vorarlberg wird gestärkt. Ein besonde
 res Augenmerk liegt in der Rückgewinnung auswärtig Studierender für den re
 gionalen Arbeitsmarkt.\nAnmeldung\nDie Teilnahme ist kostenlos. Da Pläte b
 egrenzt sind\, gilt das 'first come first serve' Prinzip.\nUnter diesem Li
 nk erhalten Sie ein gratis VVV-Ticket für die An- und Abreise.\nWeitere In
 formationen zur Veranstaltung befinden sich hier...\n&nbsp\; http://bomi40
 .eu/de/service-kompetenz/veranstaltungen/ort/event/2556-chancenland-voralb
 erg-netzwerktreffen-bregenz
DTSTART:20221222T180000Z
DTEND:20221222T230000Z
LOCATION:Festspielhaus Bregenz (Platz der Wr. Symphoniker\, 6900 Bregenz\, 
 Österreich)
SUMMARY:Chancenland Voralberg Netzwerktreffen Bregenz 
URL:http://bomi40.eu/de/service-kompetenz/veranstaltungen/ort/event/2556-ch
 ancenland-voralberg-netzwerktreffen-bregenz
END:VEVENT
END:VCALENDAR
