BEGIN:VCALENDAR
VERSION:2.0
PRODID:-//http://bomi40.eu///NONSGML kigkonsult.se iCalcreator 2.10.15//
METHOD:PUBLISH
BEGIN:VEVENT
UID:20260419T191005CEST-5683R80Nrn@http://bomi40.eu/
DTSTAMP:20260419T171005Z
DESCRIPTION:Innerhalb 48 Stunden entwickeln Teams hochinnovative Prototypen
  für vier vorgegebene Herausforderungen\, von denen mindestens eine die Na
 chhaltigkeit betrifft.\nDas Wichtigste in Kürze:\nChallengesDie drei Chall
 engepartner Tour de Suisse\, TKB\, EKT\, stellen je eine Challenge\, welch
 e von den Teams des Hackathon Thurgau 'gehackt' werden. Das Resultat wird 
 von einer professionellen Jury gepitcht.\nTeilnehmerAm Hack Thurgau arbeit
 en rund 100 Teilnehmer*innen an den Challenges der Unternehmen. Es sind al
 le willkommen\, die ideenreich\, it-interessiert sind und technisches know
 -how haben. Die Teilnehmer*innen kommen aus verschiedenen Regionen und bea
 rbeiten Ihre Projekte in funktionsübergreifenden Teams. Die Teams bestehen
  aus 2 bis 4 Personen.\nJugend ChallengeFür die Jahrgänge bis 22 Jahre ste
 llt Open Data Government eine kniffelige Challenge\, die innerhalb von ein
 em Tag gelöst werden soll.\nKostenlose VerpflegungFree Food und Free Drink
 s. Inklusive warme Mahlzeiten und jede Menge Snacks und Getränke zur Selbs
 tbedienung.\nTolle PreiseFür jede Challenge wird es für alle Teilnehmer*in
 nen der drei Gewinnergruppen tolle Hauptpreise im Wert von 10´000 Franken 
 geben.\n&nbsp\;\nAnmeldung\nWeitere Informationen zur Veranstaltung befind
 en sich hier... http://bomi40.eu/de/service-kompetenz/veranstaltungen/ort/
 event/2557-hackathon-thurgau
DTSTART:20230317T160000Z
DTEND:20230319T140000Z
LOCATION:Kantonschule Romanshorn (Weitenzelgstrasse 12\, 8590 Romanshorn\, 
 Schweiz)
SUMMARY:Hackathon Thurgau
URL:http://bomi40.eu/de/service-kompetenz/veranstaltungen/ort/event/2557-ha
 ckathon-thurgau
END:VEVENT
END:VCALENDAR
