BEGIN:VCALENDAR
VERSION:2.0
PRODID:-//http://bomi40.eu///NONSGML kigkonsult.se iCalcreator 2.10.15//
METHOD:PUBLISH
BEGIN:VEVENT
UID:20260419T180841CEST-9124uUtovJ@http://bomi40.eu/
DTSTAMP:20260419T160841Z
DESCRIPTION:Innovation in verschiedensten Formen erfasst alle Branchen und 
 Industrien. Die Reise „Poesis goes America“ bietet Einblicke in weltbekann
 te Organisationen aus dem Silicon Valley und Seattle sowie Vorlagen\, wie 
 die eigene Organisation auch zukünftig relevant bleiben kann.\nDas Silicon
  Valley ist die Innovationsregion und beeinflusst die Industrien weltweit 
 wie keine andere. Ein Besuch im Silicon Valley und ein Zusammentreffen mit
  Organisationen und Persönlichkeiten kann Einblicke und Vorlagen geben\, w
 ie die eigene Organisation auch zukünftig relevant bleiben kann.\nSeit ein
 igen Jahren gilt auch Seattle als Hotspot der Technologieszene\, wo auch n
 eben den großen bekannten Firmen wie Amazon\, Boeing oder Microsoft\, viel
 e Startups ihren großen Auftritt haben.\nDie Veranstaltung findet vom 13.0
 5. bis 20.05.2023 statt.\nProgramm\nAnmeldung\nKostenbeitrag: 2.800€ pro P
 erson zzgl. MwSt.\nWeitere Informationen zur Veranstaltung befinden sich h
 ier... http://bomi40.eu/de/service-kompetenz/veranstaltungen/ort/event/256
 6-poesis-goes-america
DTSTART;VALUE=DATE:20230517
LOCATION:Seattle und San Francisco ()
SUMMARY:Poesis goes America
URL:http://bomi40.eu/de/service-kompetenz/veranstaltungen/ort/event/2566-po
 esis-goes-america
END:VEVENT
END:VCALENDAR
