BEGIN:VCALENDAR
VERSION:2.0
PRODID:-//http://bomi40.eu///NONSGML kigkonsult.se iCalcreator 2.10.15//
METHOD:PUBLISH
BEGIN:VEVENT
UID:20260419T174908CEST-2093h4RAvu@http://bomi40.eu/
DTSTAMP:20260419T154908Z
DESCRIPTION:Das Wirtschaftsforum Thurgau ist eine jährlich stattfindende Wi
 rtschaftstagung im Kongresszentrum Thurgauerhof in Weinfelden. Die Veranst
 altung wird von über 300 Entscheidungsträgerinnen und Entscheidungsträger 
 aus der regionalen Wirtschaft und Industrie besucht. Die Tagung wird durch
  die Galledia Event AG organisiert.\nGroßartige Referent*innenAm Wirtschaf
 tsforum Thurgau treten Referenten aus der Region und auch aus dem ganzen D
 eutschsprachigen Raum auf.\nInspirierende KeynotesAuf der Bühne erlebt man
  die perfekte Mischung aus Inhalt und Inspiration: fundiert\, mitreissend\
 , unterhaltsam und interaktiv.\nNetworkingBeim Mittags-Lunch\, in der Paus
 e und beim Apéro riche nach der Veranstaltung können sich die Teilnehmende
 n untereinander austauschen und das Netzwerk pflegen.\nAnmeldung\nTickets:
  Kongresszentrum Thurgauerhof ab 290.00 CHF\, Online-Teilnahme 120.00 CHF
 \nWeitere Informationen zur Veranstaltung befinden sich hier...\n&nbsp\; h
 ttp://bomi40.eu/de/service-kompetenz/veranstaltungen/ort/event/2572-27-wir
 tschaftsforum-thurgau
DTSTART;VALUE=DATE:20231116
LOCATION:Kongresszentrum Thurgauerhof (Thomas Bornhauserstrasse 10\, 8570 W
 einfelden\, Schweiz)
SUMMARY:27. Wirtschaftsforum Thurgau
URL:http://bomi40.eu/de/service-kompetenz/veranstaltungen/ort/event/2572-27
 -wirtschaftsforum-thurgau
END:VEVENT
END:VCALENDAR
