BEGIN:VCALENDAR
VERSION:2.0
PRODID:-//http://bomi40.eu///NONSGML kigkonsult.se iCalcreator 2.10.15//
METHOD:PUBLISH
BEGIN:VEVENT
UID:20260419T191014CEST-4601iKWzN4@http://bomi40.eu/
DTSTAMP:20260419T171014Z
DESCRIPTION:Auf der all about automation erleben Sie Systeme\, Komponenten\
 , Software und Engineering für industrielle Automation und industrielle Ko
 mmunikation in Zeiten von Industrie 4.0.\nHersteller*innen\, Distributoren
 *innen und Dienstleister*innen vernetzen sich auf der all about automation
  mit den Anwendern aus der Region.\nBesucher*innen und Aussteller*innen ko
 mmen an den Ständen schnell und unkompliziert miteinander ins Gespräch und
  erarbeiten gemeinsam die individuell passende Automatisierungslösung.\nre
 gional. kompakt. kompetent\n&nbsp\;\nÖffnungszeiten:\nDienstag\, 07. März:
  09 Uhr - 17 Uhr\nMittwoch\, 08. März: 09 Uhr - 16 Uhr\n&nbsp\;\nTicket\nT
 agesticket 20€\nTagesticket Schüler/Student 10€ (Kauf nur vor Ort möglich)
 \nWeitere Informationen zur Veranstaltung finden Sie hier... http://bomi40
 .eu/de/service-kompetenz/veranstaltungen/ort/event/2580-all-about-automati
 on
DTSTART:20230307T080000Z
DTEND:20230308T160000Z
LOCATION:Messe Friedrichshafen (Neue Messe\, Friedrichshafen\, Deutschland)
SUMMARY:all about automation
URL:http://bomi40.eu/de/service-kompetenz/veranstaltungen/ort/event/2580-al
 l-about-automation
END:VEVENT
END:VCALENDAR
