BEGIN:VCALENDAR
VERSION:2.0
PRODID:-//http://bomi40.eu///NONSGML kigkonsult.se iCalcreator 2.10.15//
METHOD:PUBLISH
BEGIN:VEVENT
UID:20260419T193239CEST-1144vkPied@http://bomi40.eu/
DTSTAMP:20260419T173239Z
DESCRIPTION:InnovationsimpulsTechnologischer Wandel besteht seit jeher – do
 ch in den letzten Jahrzehnten entwickelte er sich besonders dynamisch. Man
 che Neuerungen kommen schleichend\, andere stellen ganze Industrien fast ü
 ber Nacht auf den Kopf. Für defensive Unternehmen sind technische Neuerung
 en eine Gefahr. Progressive Unternehmen sehen darin Chancen\, frühzeitig W
 ettbewerbsvorteile zu erlangen oder an Entwicklungen zu teilzunehmen.\nPro
 grammDiese Impulsveranstaltung wagt einen Blick in die nahe Zukunft. Das I
 PEK Institut für Engineering\, Product Lifecycle Management der Fachhochsc
 hule OST\, vermittelt den Teilnehmenden Ansätze\, wie man sich systematisc
 h mit relevanten technischen Entwicklungen auseinandersetzt. Dabei werden 
 spannende Technologien präsentiert\, die innerhalb der nächsten Jahre Mark
 treife erreichen und für viele Unternehmen relevant sein können.\nLassen S
 ie sich von der nächsten technischen Revolution nicht auf dem falschen Fus
 s erwischen. Besser\, Sie entdecken vielleicht Ihren Wettbewerbsvorteil vo
 n morgen.\nBesonderesDie Teilnahme ist kostenlos\; um Anmeldung wird gebet
 en. Der Anlass schließt mit einem Networking-Apéro ab\, der Gelegenheit zu
 m Austausch bietet.\nAnmeldung\nWeitere Informationen zur Veranstaltung fi
 nden Sie hier... http://bomi40.eu/de/service-kompetenz/veranstaltungen/ort
 /event/2581-near-future-technologies-potentiale-von-technologien-der-nahen
 -zukunft-erkennen
DTSTART:20230216T163000Z
DTEND:20230216T190000Z
LOCATION:Weingut Burkhart in Weinfelden (Hagholzstrasse 5\, 8570 Weinfelden
 \, Schweiz)
SUMMARY:Near Future Technologies - Potentiale von Technologien der 'nahen Z
 ukunft' erkennen
URL:http://bomi40.eu/de/service-kompetenz/veranstaltungen/ort/event/2581-ne
 ar-future-technologies-potentiale-von-technologien-der-nahen-zukunft-erken
 nen
END:VEVENT
END:VCALENDAR
