BEGIN:VCALENDAR
VERSION:2.0
PRODID:-//http://bomi40.eu///NONSGML kigkonsult.se iCalcreator 2.10.15//
METHOD:PUBLISH
BEGIN:VEVENT
UID:20260419T205044CEST-6457IPWd95@http://bomi40.eu/
DTSTAMP:20260419T185044Z
DESCRIPTION:ThemaZusammenhänge und Problemstellungen werden immer komplexer
 . Um Innovationen zu kreieren ist immer mehr spezifisches Knowhow aus unte
 rschiedlichen Expertenfeldern\, sowie umfangreiche Zeit- und Finanzressour
 cen erforderlich. Gerade KMU können innovative Vorhaben oder Entwicklungsp
 rojekte immer seltener alleine bewältigen. Es braucht Partnerschaften\, di
 e sich ergänzen und Synergien nutzbar machen.\n'Co-Creation' geht dabei we
 it über konventionelle Entwicklungspartnerschaften oder Zulieferbeziehunge
 n hinaus. Doch erfolgreiche 'Co-Creation'-Kooperationen passieren nicht zu
 fällig. Sie lassen sich aktiv herbeiführen\, ordnen und steuern.\nProgramm
 Diese Innovationswerkstatt vermittelt Ihnen einen kurzen Input über Sinn u
 nd Erfolgsfaktoren für eine Co-Creation Entwicklung. Im Workshop-Teil erha
 lten die Teilnehmenden die Möglichkeit\, verschiedene Methoden in Kleingru
 ppen anzuwenden und umzusetzen. Damit können die theoretischen Erfolgsfakt
 oren auch praktisch erlebt und der Bezug zu Möglichkeiten im eigenen Unter
 nehmen hergestellt werden.\nBesonderesDie Teilnahme ist kostenlos\; um Anm
 eldung wird gebeten. Der Anlass schließt mit einem Networking-Apéro ab\, d
 er Gelegenheit zum Austausch bietet.\nAnmeldung\nWeitere Informationen zur
  Veranstaltung finden Sie hier... http://bomi40.eu/de/service-kompetenz/ve
 ranstaltungen/ort/event/2582-co-creation-methoden-zum-kollaborativen-entwi
 ckeln-mit-partnern
DTSTART:20230316T163000Z
DTEND:20230316T190000Z
LOCATION:Autobau Romanshorn (Egnacherweg 7\, 8590 Romanshorn\, Schweiz)
SUMMARY:'Co-Creation' - Methoden zum kollaborativen Entwickeln mit Partnern
URL:http://bomi40.eu/de/service-kompetenz/veranstaltungen/ort/event/2582-co
 -creation-methoden-zum-kollaborativen-entwickeln-mit-partnern
END:VEVENT
END:VCALENDAR
