BEGIN:VCALENDAR
VERSION:2.0
PRODID:-//http://bomi40.eu///NONSGML kigkonsult.se iCalcreator 2.10.15//
METHOD:PUBLISH
BEGIN:VEVENT
UID:20260419T181249CEST-2412P5c3U0@http://bomi40.eu/
DTSTAMP:20260419T161249Z
DESCRIPTION:InnovationsimpulsKleben ist seit Tausenden von Jahren ein vom M
 enschen verwendetes Verbindungsverfahren. Doch gerade in vielen industriel
 len Fertigungsbereichen fristet die Klebetechnologie ein Nischendasein. Zu
  Unrecht! In jüngster Zeit hat sich die Klebetechnologie rasant entwickelt
  und es sind teilweise ausserordentliche Verbindungsmöglichkeiten entstand
 en.\nProgrammDiese Impulsveranstaltung erlaubt Ihnen einen Einblick in die
  Vielfalt und das Potential von Klebeverfahren und deren Anwendungen. Kleb
 er sind mittlerweile wahre Alleskönner und bieten gegenüber manchem herköm
 mlichen Verbindungsverfahren klare Vorteile. So können mitunter Materialve
 rformungen wie beim Schweissen vermieden\, Materialschwächungen wie beim B
 ohren und Schrauben reduziert oder durch veränderte Produktionsprozesse Ze
 it und Kosten eingespart werden.\nBesonderesDie Teilnahme ist kostenlos\; 
 um Anmeldung wird gebeten. Der Anlass schließt mit einem Networking-Apéro 
 ab\, der Gelegenheit zum Austausch bietet.\nAnmeldung\nWeitere Information
 en zur Veranstaltung finden Sie hier... http://bomi40.eu/de/service-kompet
 enz/veranstaltungen/ort/event/2584-klebetechnologie-die-unterschaetzte-ver
 bindungstechnik
DTSTART:20230829T153000Z
DTEND:20230829T180000Z
LOCATION:Café Stella\, Chocolat Bernrain AG (Bündtstrasse 12\, 8280 Kreuzli
 ngen\, Schweiz)
SUMMARY:Klebetechnologie - die unterschätzte Verbindungstechnik
URL:http://bomi40.eu/de/service-kompetenz/veranstaltungen/ort/event/2584-kl
 ebetechnologie-die-unterschaetzte-verbindungstechnik
END:VEVENT
END:VCALENDAR
