BEGIN:VCALENDAR
VERSION:2.0
PRODID:-//http://bomi40.eu///NONSGML kigkonsult.se iCalcreator 2.10.15//
METHOD:PUBLISH
BEGIN:VEVENT
UID:20260419T192233CEST-8143kuH3Dr@http://bomi40.eu/
DTSTAMP:20260419T172233Z
DESCRIPTION:Die Vorarlberger Innovations- und Technologiebörse 2023 #ITB23 
 bietet eine Vernetzungsplattform im Themenbereich Innovation und Technolog
 ie. Lernen Sie Knowhow- und Technologieanbieter kennen\, und tauschen Sie 
 sich mit Forschungseinrichtungen und Förderagenturen aus Österreich und Um
 gebung aus. Sie können an 1:1 Gespräche teilnehmen sowie Info-Points vor O
 rt besuchen. Nutzen Sie die schnelle und einfache Möglichkeit\, um interes
 sante Anbieter sowie Angebote kennenzulernen!\nWas erwartet Sie?\nINFO-POI
 NTSPräsentation der Anbieter vor Ort - unverbindliche Gespräche mit Ausste
 llern\, einfach vorbeikommen & umschauen\n1:1 GESPRÄCHEGespräch vorab vere
 inbaren - 20 Minuten vergehen schnell\, aber sie reichen aus\,und erste Ko
 ntakte zu knüpfen\nINOSESSION FÖRDERUNGEN GREEN TRANSITIONAktuelle Förderi
 nstrumente seitens der Bundesförderagenturen kennenlernen und Fördertipps 
 aus der Praxis holen\nDie Teilnahme ist kostenlos.\nAus organisatorischen 
 Gründen wird gebeten sich auf der Plattform zu registrieren.\nRegistrierun
 g\nProgramm\nWeitere Informationen zur Veranstaltung finden Sie hier... ht
 tp://bomi40.eu/de/service-kompetenz/veranstaltungen/ort/event/2587-vorarlb
 erger-innovations-und-technologieboerse-2023
DTSTART;VALUE=DATE:20230328
LOCATION:Campus V\, Designforum Vorarlberg & Postgarage Arena (Hintere Achm
 ühlerstraße 1\, 6850 Dornbirn\, Österreich)
SUMMARY:Vorarlberger Innovations- und Technologiebörse 2023
URL:http://bomi40.eu/de/service-kompetenz/veranstaltungen/ort/event/2587-vo
 rarlberger-innovations-und-technologieboerse-2023
END:VEVENT
END:VCALENDAR
