BEGIN:VCALENDAR
VERSION:2.0
PRODID:-//http://bomi40.eu///NONSGML kigkonsult.se iCalcreator 2.10.15//
METHOD:PUBLISH
BEGIN:VEVENT
UID:20260419T182145CEST-5914KVjxnZ@http://bomi40.eu/
DTSTAMP:20260419T162145Z
DESCRIPTION:Künstliche Intelligenz (KI) ist aktuell in aller Munde. Das Hyp
 e-Thema ist sehr umfassend und wirkt für viele zunächst abschreckend und w
 eckt Ängste. In diesem praxisorientierten Workshop wird aufgezeigt was hin
 ter dem Hype steckt. Ziel ist es\, zu erklären\, aufzuklären und ein Verst
 ändnis für diese Technologie schaffen. Der Vormittag liefert kompakt Wisse
 nsinput\, es werden Begriffe und der Einsatz der Technologie anhand von Pr
 axisbeispielen erklärt. Die Teilnehmenden erweitern ihre Kenntnisse und we
 rden dadurch in die Lage versetzt mit Fachanbietern auf Augenhöhe zu sprec
 hen\, Lösungsvorschläge und Angebote zu beurteilen.\nFür den Nachmittag we
 rden zwei Gruppen gebildet\, um das Erlernte direkt in die Praxis zu überf
 ühren.\nWorkshop 1:\nEine Gruppe widmet sich der eher strategischen Planun
 g einer KI-Anwendung und arbeitet in Gruppen konkrete Usecases für das eig
 ene Unternehmen aus. Die Teilnehmenden lernen strukturiert Einsatzmöglichk
 eiten von KI im eigenen Unternehmen zu erkennen und diese in ein umsetzbar
 es Projekt zu überführen. Dazu durchlaufen sie den Prozess der Analyse und
  Ideenfindung\, um Einsatzmöglichkeiten und Vorteile von KI im eigenen Unt
 ernehmen zu Identifizieren.\nWorkshop 2:\nDie zweite Gruppe widmet sich de
 r technischen Implementierung von KI und lernt anhand einer Daten-Dummy-Si
 mulation\, die Daten für die KI entsprechend aufzubereiten. Die Teilnehmen
 den dieser Gruppe lernen somit\, was eigentlich hinter einer KI steckt und
  welche Vorkehrungen in Bezug auf die Datennutzung im Unternehmen getroffe
 n werden müssen. Sie erfahren welche freizugänglichen Tools vorhanden sind
 \, um ein eigens Analysewerkzeug zu entwickeln.\nTeilnahme: 590\,00 € / Pe
 rson\nWeitere Informationen zur Veranstaltung finden Sie hier... http://bo
 mi40.eu/de/service-kompetenz/veranstaltungen/ort/event/2602-bwcon-ki-innov
 ationswerkstatt-wie-kann-ich-kuenstliche-intelligenz-als-werkzeug-erkennen
 -und-sinnvoll-anwenden
DTSTART:20230929T070000Z
DTEND:20230929T150000Z
LOCATION:bwcon GmbH (Seyfferstraße 34\, 70197 Stuttgart\, Deutschland)
SUMMARY:bwcon KI Innovationswerkstatt – Wie kann ich künstliche Intelligenz
  als Werkzeug erkennen und sinnvoll anwenden?
URL:http://bomi40.eu/de/service-kompetenz/veranstaltungen/ort/event/2602-bw
 con-ki-innovationswerkstatt-wie-kann-ich-kuenstliche-intelligenz-als-werkz
 eug-erkennen-und-sinnvoll-anwenden
END:VEVENT
END:VCALENDAR
