BEGIN:VCALENDAR
VERSION:2.0
PRODID:-//http://bomi40.eu///NONSGML kigkonsult.se iCalcreator 2.10.15//
METHOD:PUBLISH
BEGIN:VEVENT
UID:20260419T191118CEST-6426vhiswn@http://bomi40.eu/
DTSTAMP:20260419T171118Z
DESCRIPTION:Digitalisierung lebt vom Mitmachen. Deshalb steht der Digitalta
 g allen offen. Jede*r kann sich bei der Organisation von Veranstaltungen z
 um Digitaltag am 16. Juni einbringen – egal ob vor Ort oder im virtuellen 
 Raum. Der Kreativität sind hierbei keine Grenzen gesetzt.\nDer Digitaltag 
 ist ein Aktionstag\, an dem in ganz Deutschland Seminare\, Workshops\, Vor
 träge\, Führungen\, Beratungen und vieles mehr rund um Digitalisierung sta
 ttfinden. Alle können mitmachen und eigene Aktionen gestalten: Organisatio
 nen\, Vereine\, Unternehmen\, Städte und Kommunen sowie auch Privatpersone
 n. Gemeinsam wollen wir digitale Teilhabe fördern mit dem Ziel\, dass alle
  in die Lage versetzt werden\, sich souverän und sicher\, selbstbewusst un
 d selbstbestimmt in der digitalen Welt zu bewegen.\nAllgemeine Hinweise:\n
 \nDer 16. Juni 2023 ist der Hauptaktionstag – Aktionen können aber auch im
  direkten zeitlichen Umfeld vom 10.–18. Juni 2023 stattfinden.\nAktionen k
 önnen vor Ort\, online oder in hybrider Form stattfinden. Alle Aktionen si
 nd nach der Freischaltung auf der interaktiven Aktionslandkarte sichtbar.
 \n\nAnmeldung\nWeitere Informationen zur Veranstaltung finden Sie hier... 
 http://bomi40.eu/de/service-kompetenz/veranstaltungen/ort/event/2607-bunde
 sweiter-digitaltag
DTSTART;VALUE=DATE:20230616
LOCATION:Deutschland ()
SUMMARY:Bundesweiter Digitaltag
URL:http://bomi40.eu/de/service-kompetenz/veranstaltungen/ort/event/2607-bu
 ndesweiter-digitaltag
END:VEVENT
END:VCALENDAR
