BEGIN:VCALENDAR
VERSION:2.0
PRODID:-//http://bomi40.eu///NONSGML kigkonsult.se iCalcreator 2.10.15//
METHOD:PUBLISH
BEGIN:VEVENT
UID:20260419T174729CEST-5059rlOvrr@http://bomi40.eu/
DTSTAMP:20260419T154729Z
DESCRIPTION:Die XR Week zeigt XR-Technologien und professionelle Anwendunge
 n von VR\, MR und AR in Industrie\, Architektur\, Gesundheit\, Handel und 
 Handwerk.\nBei der XR Week erleben Sie XR-Branchengrößen\, exzellente Spre
 cher*innen und Showcases aus der Praxis. Die XR Expo hat es sich zum Ziel 
 gesetzt\, DER Treffpunkt für Industrie-Anwender\, Technologie-Anbieter\, C
 ontent-Dienstleister und XR-Forscher zu sein. Die Get-Togethers bieten die
  perfekte Möglichkeit zum Networken.\nDie XR EXPO 2023 findet vom 15.-16. 
 Juni 2023 im Haus der Wirtschaft in Stuttgart statt. Alle für die XR EXPO 
 2023 genutzten Räume befinden sich im 2. OG.\nInformationen für Ihre Teiln
 ahme als Besucher finden Sie hier...\nAnmeldemöglichkeit folgt in Kürze.\n
 Weitere Informationen zur Veranstaltung finden Sie hier... http://bomi40.e
 u/de/service-kompetenz/veranstaltungen/ort/event/2611-xr-week-2023
DTSTART:20230614T220000Z
DTEND:20230615T220000Z
LOCATION:Haus der Wirtschaft (Willi-Bleicher-Straße 19\, 70174 Stuttgart\, 
 Deutschland)
SUMMARY:XR Week 2023
URL:http://bomi40.eu/de/service-kompetenz/veranstaltungen/ort/event/2611-xr
 -week-2023
END:VEVENT
END:VCALENDAR
