BEGIN:VCALENDAR
VERSION:2.0
PRODID:-//http://bomi40.eu///NONSGML kigkonsult.se iCalcreator 2.10.15//
METHOD:PUBLISH
BEGIN:VEVENT
UID:20260419T202831CEST-8706oP11TB@http://bomi40.eu/
DTSTAMP:20260419T182831Z
DESCRIPTION:Erfahren Sie live den Transfer von Technologie und Wissen\, gew
 innen Sie spannende Einsichten in unseren vier Transferforen und erhalten 
 Sie informative Einblicke in unsere aktuellen Forschungsprojekte. Zudem ha
 ben Sie den ganzen Tag über die Möglichkeit\, in den Reallaboren unseres H
 ouse of Living Labs bei spannenden Präsentationen und Demonstrationen unse
 re Forschung aus erster Hand zu erleben. Beim Frühstücksbuffet und dem Lun
 ch-Break mit Foodtrucks haben Sie zudem die Gelegenheit\, in angenehmer At
 mosphäre spannende Kontakte zu knüpfen und sich – gemeinsam mit uns – über
  Fachthemen auszutauschen.\nDie Teilnahme ist kostenlos.\nAnmeldung\nWeite
 re Informationen zur Veranstaltung finden Sie hier... http://bomi40.eu/de/
 service-kompetenz/veranstaltungen/ort/event/2620-fzi-open-house-2023
DTSTART:20230216T073000Z
DTEND:20230216T160000Z
LOCATION:FZI (Haid-und-Neu-Straße 10-14\, 76131 Karlsruhe\, Deutschland)
SUMMARY:FZI Open House 2023
URL:http://bomi40.eu/de/service-kompetenz/veranstaltungen/ort/event/2620-fz
 i-open-house-2023
END:VEVENT
END:VCALENDAR
