BEGIN:VCALENDAR
VERSION:2.0
PRODID:-//http://bomi40.eu///NONSGML kigkonsult.se iCalcreator 2.10.15//
METHOD:PUBLISH
BEGIN:VEVENT
UID:20260419T195000CEST-8630FNXpzC@http://bomi40.eu/
DTSTAMP:20260419T175000Z
DESCRIPTION:Im virtuellen KI-Showroom gibt der Digital Hub Karlsruhe für An
 gewandte Künstliche Intelligenz einen umfassenden Einblick in die untersch
 iedlichen Anwendungsfelder von KI.\nErleben Sie im Showroom\, wo KI heute 
 schon erfolgreich im Einsatz ist: von den KI-Grundlagen bis hin zu aktuell
 en Use Cases der Partner des Digital Hub Karlsruhe aus den Bereichen Energ
 ie\, Gesundheit\, Mobilität\, Produktion und Services.\nZur Anmeldung über
  LinkedIn.\nSie möchten teilnehmen\, haben aber keinen LinkedIn-Account?Da
 nn können Sie sich gerne auch per Mail melden: dehubai@diz-bw.de\nWeitere 
 Informationen zur Veranstaltung finden Sie hier... http://bomi40.eu/de/ser
 vice-kompetenz/veranstaltungen/ort/event/2621-ki-showroom-ki-virtuell-erle
 ben
DTSTART:20230323T150000Z
DTEND:20230323T160000Z
LOCATION: Online an Ihrem PC oder Laptop ()
SUMMARY:KI-Showroom – KI virtuell erleben
URL:http://bomi40.eu/de/service-kompetenz/veranstaltungen/ort/event/2621-ki
 -showroom-ki-virtuell-erleben
END:VEVENT
END:VCALENDAR
