BEGIN:VCALENDAR
VERSION:2.0
PRODID:-//http://bomi40.eu///NONSGML kigkonsult.se iCalcreator 2.10.15//
METHOD:PUBLISH
BEGIN:VEVENT
UID:20260419T203440CEST-6416nsUUIg@http://bomi40.eu/
DTSTAMP:20260419T183440Z
DESCRIPTION:Im letzten Jahr hat die Bedeutung der digitalen Transformation 
 eine besondere Note bekommen. Tiefgreifende Veränderungen haben eingespiel
 te und erprobte Abläufe sowohl in den globalen Lieferketten als auch in in
 ternen Geschäftsprozessen auf eine harte Probe gestellt. Wie sollen Untern
 ehmen damit umgehen?\n«Daten und Digitalisierung sind ganz entscheidende K
 ernelemente\, um die aktuellen Herausforderungen zu bewältigen.»\nIm Lives
 tream «Digitale Trends» diskutiert das Expertenteam unter anderem Themen w
 ie Data Management\, IT-Security und Nachhaltigkeit und wie sie unsere Wel
 t in Zeiten des Umbruchs prägen werden. Welche Chancen bieten sich dabei f
 ür Ihr Unternehmen?\nDie Teilnahme ist kostenlos.\nAnmeldung\nWeitere Info
 rmationen zur Veranstaltung finden Sie hier... http://bomi40.eu/de/service
 -kompetenz/veranstaltungen/ort/event/2626-digitale-trends-2023-digitaler-w
 andel-in-zeiten-des-umbruchs
DTSTART:20230321T100000Z
DTEND:20230321T110000Z
LOCATION: Online an Ihrem PC oder Laptop ()
SUMMARY:Digitale Trends 2023 - Digitaler Wandel in Zeiten des Umbruchs 
URL:http://bomi40.eu/de/service-kompetenz/veranstaltungen/ort/event/2626-di
 gitale-trends-2023-digitaler-wandel-in-zeiten-des-umbruchs
END:VEVENT
END:VCALENDAR
