BEGIN:VCALENDAR
VERSION:2.0
PRODID:-//http://bomi40.eu///NONSGML kigkonsult.se iCalcreator 2.10.15//
METHOD:PUBLISH
BEGIN:VEVENT
UID:20260419T192650CEST-7468bsg7RV@http://bomi40.eu/
DTSTAMP:20260419T172650Z
DESCRIPTION:Für den digitalen Expertinnen- und Expertendialog der Arbeitsgr
 uppe Arbeit\, Aus- und Weiterbildung kommen Vertreterinnen und Vertretern 
 von Partnerorganisationen\, Unternehmen\, Verbänden\, Gewerkschaften und d
 er Forschung zu einem digitalen Austausch zusammen. Sie diskutieren\, welc
 he Zukunftsfähigkeiten (Future Skills) das Team eines Unternehmens heute b
 esitzen muss\, um eine Nachhaltigkeitsstrategie erfolgreich umzusetzen.\nD
 ie Mitglieder der Arbeitsgruppe Arbeit\, Aus- und Weiterbildung präsentier
 en ihre neue Publikation zum Thema „Green Skills“ und tauschen sich mit Ih
 nen in einer Paneldiskussion über den Lernpfad aus\, der Unternehmen den E
 instieg in nachhaltiges Wirtschaften vermitteln soll. Außerdem erwarten Si
 e Beiträge zu den Veränderungen am Arbeitsplatz im Zuge der Dekarbonisieru
 ng und zu den Herausforderungen\, die sich daraus für die Hochschul- und b
 erufliche Ausbildung ergeben.\nAußerdem können Sie an spannenden Breakout-
 Sessions teilnehmen\, die sich mit Themen wie Wertschöpfung durch grüne Ge
 schäftsmodelle\, Datenräumen und nachhaltiger Unternehmensführung beschäft
 igen.\nMelden Sie sich schon jetzt an und erfahren Sie alles rund um die E
 inführung von Nachhaltigkeitsmaßnahmen in Unternehmen.\nAnmeldung\nWeitere
  Informationen finden Sie hier...\n&nbsp\; http://bomi40.eu/de/service-kom
 petenz/veranstaltungen/ort/event/2627-future-skills-fuer-die-digitale-und-
 oekologische-transformation-expertinnen-und-expertendialog-der-plattform-i
 ndustrie-4-0
DTSTART:20230324T080000Z
DTEND:20230324T113000Z
LOCATION: Online an Ihrem PC oder Laptop ()
SUMMARY:Future Skills für die digitale und ökologische Transformation – Exp
 ertinnen- und Expertendialog der Plattform Industrie 4.0
URL:http://bomi40.eu/de/service-kompetenz/veranstaltungen/ort/event/2627-fu
 ture-skills-fuer-die-digitale-und-oekologische-transformation-expertinnen-
 und-expertendialog-der-plattform-industrie-4-0
END:VEVENT
END:VCALENDAR
