BEGIN:VCALENDAR
VERSION:2.0
PRODID:-//http://bomi40.eu///NONSGML kigkonsult.se iCalcreator 2.10.15//
METHOD:PUBLISH
BEGIN:VEVENT
UID:20260419T191255CEST-9966z7s5MN@http://bomi40.eu/
DTSTAMP:20260419T171255Z
DESCRIPTION:Warum Liechtenstein mehr mit dem Weltraum zu tun hat\, als Sie 
 jetzt vielleicht denken erfahren Sie nach dem StartUpéro vom 28. März.\nEr
 fahren Sie von Oliver Ullrich\, von Star Sailors AG\, was für Projekte das
  Startup umsetzt und wie es das Business im Weltall vorantreibt. Hören Sie
  von ihren spannendsten Milestones und Learnings und erfahre\, warum sie a
 usgerechnet Liechtenstein als Ort für Ihre Weltall-Mission ausgewählt habe
 n. Herr Ullrich wird außerdem über die wirtschaftlichen Möglichkeiten der 
 Nutzung des Weltraumes erzählen und mitteilen\, warum das Weltall nicht nu
 r den großen Firmen vorbehalten ist und wie sich die Startup-Szene in dies
 em enormen Wachstumsmarkt erfolgreich entwickeln kann.\nWussten Sie\, dass
  Airbus nicht nur ein führender Hersteller von Flugzeugen ist\, sondern in
  vielen weiteren Bereichen tätig ist? Erfahren Sie von Ulrich Kübler wo Ai
 rbus abgesehen von der Flugzeug-Branche sonst noch überall mitspielt und w
 ie Startups mit einer innovativen Idee überhaupt an Airbus rankommen\, um 
 mit Ihnen zusammen geplante Projekte und Innovationen in die Realität umzu
 setzen. Schließlich macht Herr Kübler an einem Beispiel fest\, wie auch kl
 eine Jungunternehmen ins Weltraum-Business einsteigen können.\nMarkus Skar
 ohlid vom Amt für Kommunikation von Liechtenstein\, wird zuerst berichten\
 , warum das kleine Fürstentum überhaupt ein Weltraumgesetz benötigt und wi
 e dies aussieht. Er informiert darüber\, was für Bewilligungen für eine so
 lche Mission benötigt werden und welche Schritte gegangen werden müssen. W
 ie das Amt für Kommunikation in diesem Bereich konkret unterstützen kann\,
  erfahren Sie ebenfalls an unserem Weltall-Ausflug am StartUpéro.\nNach de
 n berichteten Erfahrungen erfolgt eine Diskussionsrunde zwischen den drei 
 Speakern und dem Publikum\, wobei jegliche Fragen willkommen sind und sich
  die Gäste gerne an der Diskussion mit Ergänzungen und Erfahrungen beteili
 gen dürfen.\nSetzen Sie Ihre Unterhaltung im Anschluss mit den anderen Tei
 lnehmenden und den Speakern bei einem gemütlichen Apéro mit leckeren Häppc
 hen fort.\nDie Teilnahme ist kostenfrei.\nAnmeldung\nWeitere Informationen
  zur Veranstaltung finden Sie hier... http://bomi40.eu/de/service-kompeten
 z/veranstaltungen/ort/event/2628-start-upero-space-economy
DTSTART:20230328T150000Z
DTEND:20230328T170000Z
LOCATION:Technopark Liechtenstein (Schaanerstrasse 27\, 9490 Vaduz\, Liecht
 enstein)
SUMMARY:Start-Upéro: Space Economy
URL:http://bomi40.eu/de/service-kompetenz/veranstaltungen/ort/event/2628-st
 art-upero-space-economy
END:VEVENT
END:VCALENDAR
