BEGIN:VCALENDAR
VERSION:2.0
PRODID:-//http://bomi40.eu///NONSGML kigkonsult.se iCalcreator 2.10.15//
METHOD:PUBLISH
BEGIN:VEVENT
UID:20260419T192804CEST-3593GK7ru0@http://bomi40.eu/
DTSTAMP:20260419T172804Z
DESCRIPTION:Das Ostschweizer Food Forum am Donnerstag\, 09. März 2023\, in 
 Weinfelden widmet sich dem Thema 'Zukunftskompetenz'.\nDie Zukunft der Lan
 dwirtschaft baut auf Prioritäten und Konzessionen. Dies braucht Mut. Am 9.
  März stehen Vertreter*innen der Schweizer Land- und Ernährungswirtschaft 
 auf der Bühne\, die Mut zeigen und neue Wege gehen\, um ihre Zukunftskompe
 tenz sicher zu stellen. Unter anderem erzählen Johannes Eberle und Michi F
 rauenfelder von Vegional wie und warum sie Joghurt aus Schweizer Lupinen m
 achen. Lukas Hartmann von der HOCHDORF-Gruppe gibt Einblicke wie «Milch»-P
 roteine in Zukunft aussehen können und Cornel Herrmann von der Micarna-Gru
 ppe referiert über alternative Proteinquellen für die Fleischindustrie.\nT
 eilnahme:\nCHF 90.– / CHF 60.– exkl. MwSt.*\n*reduzierter Preis gilt für A
 ktionäre AMT + Supporter\, Partner\, Gönner des KNW-E.\nAnmeldung\nWeitere
  Informationen zur Veranstaltung finden Sie hier... http://bomi40.eu/de/se
 rvice-kompetenz/veranstaltungen/ort/event/2629-kuehe-oder-kichererbsen-das
 -ist-hier-die-frage
DTSTART:20230309T123000Z
DTEND:20230309T163000Z
LOCATION:Gasthaus zum Trauben (Rathausstrasse 1\, 8570 Weinfelden\, Schweiz
 )
SUMMARY:Kühe oder Kichererbsen - das ist hier die Frage!
URL:http://bomi40.eu/de/service-kompetenz/veranstaltungen/ort/event/2629-ku
 ehe-oder-kichererbsen-das-ist-hier-die-frage
END:VEVENT
END:VCALENDAR
