BEGIN:VCALENDAR
VERSION:2.0
PRODID:-//http://bomi40.eu///NONSGML kigkonsult.se iCalcreator 2.10.15//
METHOD:PUBLISH
BEGIN:VEVENT
UID:20260419T205044CEST-5525076LEu@http://bomi40.eu/
DTSTAMP:20260419T185044Z
DESCRIPTION:Bei Metaverse handelt es sich um einen digitalen Raum\, in dem 
 virtuelle\, erweiterte und physische Realität möglichst nahtlos miteinande
 r verschmelzen. Somit können digitale Repräsentationen von Menschen ('Avat
 are') miteinander und mit digitalen Objekten in einem virtuellen Umfeld in
 teragieren.\nWelches Potenzial bietet das Metaverse für Industrieunternehm
 en?\nWelches Potenzial bietet das Metaverse für Industrieunternehmen? In e
 inem Mix aus Theorie und Praxis wird versucht die Begrifflichkeit rundum „
 Metaverse“ greifbar zu machen und gezeigt\, wie einzelne Unternehmen berei
 ts mit der Thematik umgehen.\nDie Veranstaltung wird online mit Teams durc
 hgeführt. Die Einwahldaten finden Sie nach Ihrer Anmeldung auf der OneVDMA
 -Eventseite.\nDie Teilnahme ist kostenfrei.\nAnmeldung\nEinen Internetarti
 kel als Überblick zur Thematik finden Sie hier...\nWeitere Informationen z
 ur Veranstaltung finden Sie hier... http://bomi40.eu/de/service-kompetenz/
 veranstaltungen/ort/event/2631-metaverse-ein-nutzen-fuer-die-industrie
DTSTART:20230316T090000Z
DTEND:20230316T110000Z
LOCATION: Online an Ihrem PC oder Laptop ()
SUMMARY:Metaverse – ein Nutzen für die Industrie? 
URL:http://bomi40.eu/de/service-kompetenz/veranstaltungen/ort/event/2631-me
 taverse-ein-nutzen-fuer-die-industrie
END:VEVENT
END:VCALENDAR
