BEGIN:VCALENDAR
VERSION:2.0
PRODID:-//http://bomi40.eu///NONSGML kigkonsult.se iCalcreator 2.10.15//
METHOD:PUBLISH
BEGIN:VEVENT
UID:20260419T174812CEST-3615hVsRkK@http://bomi40.eu/
DTSTAMP:20260419T154812Z
DESCRIPTION:Der Digital Summit ist die Leuchtturm-Veranstaltung für den Dig
 italstandort Liechtenstein. Die Konferenz bringt am Dienstag\, 23. Mai 202
 3\, erneut hochkarätige Branchenvertreter*innen und Experten*innen auf die
  Bühne und beleuchtet aktuelle Entwicklungen für die Digitalbranche. Präse
 nt sind hochkarätige Referentinnen und Referenten wie Markus Gross\, ETH-P
 rofessor und Vice President of Research The Walt Disney Studios\, Dominiqu
 e von Matt\, Verwaltungsratspräsident Jung von Matt\, Christian Keller\, V
 orsitzender der Geschäftsleitung der IBM Schweiz\, Stefan Metzger\, CEO vo
 n digitalswitzerland\, und Sabine Monauni\, Wirtschaftsministerin des Fürs
 tentums Liechtenstein und Moderatorin Sunnie Groeneveld.\nDas finale Progr
 amm folgt in Kürze.\nTeilnahme: 290 CHF exklusive MwSt.\nAnmeldeschluss: D
 ienstag\, 16. Mai 2023\nAnmeldung\nWeitere Informationen zur Veranstaltung
  befinden sich hier... http://bomi40.eu/de/service-kompetenz/veranstaltung
 en/ort/event/2634-digital-summit-liechtenstein-2023
DTSTART:20230523T113000Z
DTEND:20230523T153000Z
LOCATION:Vaduzer Saal\, 9490 - Vaduz\, LI (Vaduzer Saal\, 9490 - Vaduz\, LI
 )
SUMMARY:Digital Summit Liechtenstein 2023
URL:http://bomi40.eu/de/service-kompetenz/veranstaltungen/ort/event/2634-di
 gital-summit-liechtenstein-2023
END:VEVENT
END:VCALENDAR
