BEGIN:VCALENDAR
VERSION:2.0
PRODID:-//http://bomi40.eu///NONSGML kigkonsult.se iCalcreator 2.10.15//
METHOD:PUBLISH
BEGIN:VEVENT
UID:20260419T191118CEST-1917MhCPEM@http://bomi40.eu/
DTSTAMP:20260419T171118Z
DESCRIPTION:Mit Sitz im Herzen von Baden-Württemberg und gleichzeitig die Z
 ukunft fest im Blick – das ist die Mission des Wirtschaftsförderverein Stu
 ttgart e.V.\nDas Event ist eine einzigartige Gelegenheit\, um sich mit and
 eren Gründern*innen\, Unternehmern*innen\, Investoren*innen und Branchenex
 perten*innen zu vernetzen und von ihren Erfahrungen zu lernen.\nDas Progra
 mm bietet inspirierende Pitches von 6 Startups (Jeweils 6 Minuten Pitch un
 d 6 Minuten Frage/Antwort) aus Deutschland\, in denen Sie Ihre Ideen und P
 rojekte präsentieren und Feedback erhalten. Es werden auch viele Gelegenhe
 iten zum Networking und zur Kontaktpflege geboten. Im Publikum ist eine ho
 he Dichte an Privatinvestoren*innen\, Vertreter*innen von Banken\, Fonds\,
  Familienbüros und institutionellen Investoren*innen.\nDie Teilnahme am St
 artup Summit Deutschland ist kostenlos.\nAnmeldung\nWeitere Informationen 
 zur Veranstaltung befinden sich hier...\n&nbsp\; http://bomi40.eu/de/servi
 ce-kompetenz/veranstaltungen/ort/event/2641-startup-summit-deutschland
DTSTART:20230516T120000Z
DTEND:20230516T133000Z
LOCATION:Haus der Wirtschaft\, Bertha-Benz-Saal (Willi-Bleicher-Straße 19\,
  70174 Stuttgart\, Deutschland)
SUMMARY: Startup Summit Deutschland
URL:http://bomi40.eu/de/service-kompetenz/veranstaltungen/ort/event/2641-st
 artup-summit-deutschland
END:VEVENT
END:VCALENDAR
