BEGIN:VCALENDAR
VERSION:2.0
PRODID:-//http://bomi40.eu///NONSGML kigkonsult.se iCalcreator 2.10.15//
METHOD:PUBLISH
BEGIN:VEVENT
UID:20260419T180602CEST-0508hftwrc@http://bomi40.eu/
DTSTAMP:20260419T160602Z
DESCRIPTION:Künstliche Intelligenz (KI) ist mittlerweile eines der bestimme
 nden Businessthemen und findet bereits in vielen Branchen und Geschäftsber
 eichen Anwendung. Unternehmen\, die das Potenzial von Künstlicher Intellig
 enz erkennen und frühzeitig KI-Kompetenz aufbauen\, erlangen einen Wettbew
 erbsvorteil. Es ist daher essentiell\, dass Unternehmen sich intensiv mit 
 dem Thema auseinandersetzen und strategische Überlegungen zu KI in die Tat
  umsetzen\, um die Technologie als Teil der Wertschöpfungskette zu impleme
 ntieren. Die entscheidende Frage dabei ist\, wie sich KI skalierend und we
 rtschöpfend ins Unternehmen integrieren lässt.\nDie erste KI Convention in
  Friedrichshafen thematisiert unter anderem diese Fragestellung. Sie biete
 t die Gelegenheit\, regionale KI-Anbieter kennenzulernen und sich über die
  vielfältigen Anwendungsmöglichkeiten von KI im Unternehmen zu informieren
 .\nWarum sollten Sie als Unternehmen an der KI Convention teilnehmen?\n\nW
 issen über KI aufbauen und erweitern\nAnwendungsmöglichkeiten für das eige
 ne Unternehmen identifizieren\nsich mit anderen Unternehmen über verschied
 ene KI-Strategien austauschen\nvon regionalen KI-Experten lernen\nüber die
  neuesten Trends und Entwicklungen in der KI-Branche informieren\nfür eine
  erfolgreiche KI-Implementierung vorbereiten\n\nDie KI Convention Friedric
 hshafen ist eine gemeinsame Veranstaltung des KI-Lab Allgäu-Oberschwaben\,
  den KIM-Labs und dem KI-Lab Bodensee. Die regionalen KI-Labs sind vom Min
 isterium für Wirtschaft\, Arbeit und Tourismus gefördert und Teil des Maßn
 ahmenpakets „Aktionsprogramm KI für den Mittelstand“.\nAnmeldung\nWeitere 
 Informationen zur Veranstaltung befinden sich hier...\n&nbsp\; http://bomi
 40.eu/de/service-kompetenz/veranstaltungen/ort/event/2645-ki-convention-20
 23-friedrichshafen
DTSTART:20230712T080000Z
DTEND:20230712T160000Z
LOCATION: 88045 Graf von Soden Forum\, ZF Campus\, Zeppelin Universität  (G
 raf-von-Soden-Straße\, 88045 Friedrichshafen\, Deutschland)
SUMMARY: KI Convention 2023 Friedrichshafen
URL:http://bomi40.eu/de/service-kompetenz/veranstaltungen/ort/event/2645-ki
 -convention-2023-friedrichshafen
END:VEVENT
END:VCALENDAR
