BEGIN:VCALENDAR
VERSION:2.0
PRODID:-//http://bomi40.eu///NONSGML kigkonsult.se iCalcreator 2.10.15//
METHOD:PUBLISH
BEGIN:VEVENT
UID:20260419T192323CEST-921836ujwz@http://bomi40.eu/
DTSTAMP:20260419T172323Z
DESCRIPTION:Für Startups:\nDer Businessplan steht und Sie sind voller Taten
 drang. Doch Ihr Budget ist gleich Null?Ihr Produkt ist ready für den Markt
  und Sie stehen kurz vor den ersten Umsätzen. Doch das Geld reicht nicht?S
 ie haben bewiesen\, dass Ihr Produkt gefragt ist. Doch unvorhergesehene Er
 eignisse erfordern mehr Kapital?\nBei diesem Event wird über verschiedene 
 Finanzierungsinstrumente gesrpochen - vom Bootstrapping bis zum VC-Investm
 ent - die Ihnen eine größtmögliche Stabilität verleihen und mit einer nach
 haltigen Ausrichtung deines Unternehmens einher gehen. Die Einblicke solle
 n Ihnen dabei helfen zu entscheiden\, welche dieser Instrumente für Sie am
  besten geeignet sind.\nFür Investoren:\nEgal ob erfahren oder unerfahren 
 - auf was sollten Sie beim Investieren in Startups achten? Was sind die Do
 s and Don'ts? Welche Rahmenbedingungen verschaffen nicht nur Ihnen einen g
 uten Deal\, sondern ermöglichen auch dem Startup sowie den Menschen dahint
 er eine gesunde Entwicklung und Potenzialentfaltung? Welche regionalen\, n
 achhaltig-motivierten Startups sind gerade auf der Suche nach einem Invest
 ment? (Achtung: Investoren erhalten nur Zugang zum Investoren-Bereich\, we
 nn im Vorfeld ein persönliches Kennenlernen stattgefunden hat oder eine Mi
 tgliedschaft vorliegt. Terminvereinbarungen unter info@startup-netzwerk-bo
 densee.com)\n&nbsp\;\n„Pay what feels right“\nSo bunt und vielseitig wie d
 er Teilnehmerkreis auf der Lounge\, so unterschiedlich auch die finanziell
 en Möglichkeiten. Unser solidarisches Ticketkonzept ermöglicht allen gleic
 hermaßen die Teilnahme am Event und sichert das Fortbestehen sowie die Qua
 lität der Lounge Eventreihe.\nEntscheide selbst\, welche Ticketoption sich
  richtig anfühlt und was du zahlen kannst. Das Preismodell schafft einen s
 ozialen Ausgleich und beruht auf gegenseitigem Vertrauen sowie deiner Vera
 ntwortungsübernahme.\nTeilnahme: \n\n45 EUR für Menschen ohne geregeltes E
 inkommen z. B. Studierende\, Arbeitssuchende\n69 EUR für Menschen mit geri
 ngem Einkommen z. B. Teilzeit-Beschäftigte\, Gründende\n89 EUR für Mensche
 n mit geregeltem Einkommen z. B. Angestellte\, Unternehmer*innen\n134 EUR 
 für Förderer und Fans der Lounge\n\nAnmeldung\nWeitere Informationen zur V
 eranstaltung finden Sie hier... http://bomi40.eu/de/service-kompetenz/vera
 nstaltungen/ort/event/2654-startup-lounge-nachhaltige-finanzierungsformen
DTSTART:20230420T133000Z
DTEND:20230420T213000Z
LOCATION:Bodenseeforum Konstanz\, Reichenaustraße 21\, 78467 Konstanz (Reic
 henaustraße 21\, 78467 Konstanz\, Deutschland)
SUMMARY: Startup Lounge: Nachhaltige Finanzierungsformen
URL:http://bomi40.eu/de/service-kompetenz/veranstaltungen/ort/event/2654-st
 artup-lounge-nachhaltige-finanzierungsformen
END:VEVENT
END:VCALENDAR
