BEGIN:VCALENDAR
VERSION:2.0
PRODID:-//http://bomi40.eu///NONSGML kigkonsult.se iCalcreator 2.10.15//
METHOD:PUBLISH
BEGIN:VEVENT
UID:20260419T192502CEST-4539ZEozET@http://bomi40.eu/
DTSTAMP:20260419T172502Z
DESCRIPTION:Legal Tech Day 2023 an der HTWG KonstanzNach zwei Jahren Pause 
 veranstaltet der Studiengang Wirtschaftsrecht der HTWG Konstanz wieder den
  Konstanz Legal Tech Day 2023. Nachdem bei den Konstanz Legal Tech Days 20
 20 der Fokus auf den „Inhouse Matters“ von Unternehmensrechtsabteilungen u
 nd Kanzleien lag\, widmet sich sich der diesjährige Legal Tech Day dem Leg
 al Tech in der Unternehmenspraxis.&nbsp\;\nDie an der Veranstaltung teilne
 hmenden Studierenden erhalten auf diese Weise einen Einblick in das Themen
 gebiet und werden in die Lage versetzt\, die Bedeutung von Legal Tech für 
 sich selbst und die eigene Berufsplanung einzuschätzen. Studierende\, Wirt
 schaftsjuristen*innen\, Juristen*innen\, Informatiker*innen\, Vertreter*in
 nen der Legal Tech Branche und Themeninteressierte sind herzlich eingelade
 n\, an der Veranstaltung teilzunehmen.\nDie Veranstaltung wird hybrid durc
 hgeführt.\nAnmeldung\nProgramm\nWeitere Informationen zur Veranstaltung fi
 nden Sie hier... http://bomi40.eu/de/service-kompetenz/veranstaltungen/ort
 /event/2655-legal-tech-day-2023-legal-tech-in-der-unternehmenspraxis
DTSTART:20230526T070000Z
DTEND:20230526T144500Z
LOCATION:Alfred-Wachtel-Saal (P-Gebäude | P001) (Alfred-Wachtel-Straße 8\, 
 78462 Konstanz\, Deutschland)
SUMMARY:Legal Tech Day 2023: Legal Tech in der Unternehmenspraxis
URL:http://bomi40.eu/de/service-kompetenz/veranstaltungen/ort/event/2655-le
 gal-tech-day-2023-legal-tech-in-der-unternehmenspraxis
END:VEVENT
END:VCALENDAR
