BEGIN:VCALENDAR
VERSION:2.0
PRODID:-//http://bomi40.eu///NONSGML kigkonsult.se iCalcreator 2.10.15//
METHOD:PUBLISH
BEGIN:VEVENT
UID:20260419T204916CEST-39354eehax@http://bomi40.eu/
DTSTAMP:20260419T184916Z
DESCRIPTION:Business Process Management ist ein ganzheitlicher Management-A
 nsatz für die Analyse\, Gestaltung und das Managen von Prozessen in Organi
 sationen. Während frühere Arbeiten zum Prozessmanagement vornehmlich die M
 odellierung von Prozessen zum Gegenstand hatten\, rückt ein modernes Proze
 ssmanagement die Entwicklung organisationaler Fähigkeiten in den Mittelpun
 kt. Ein ganzheitliches Prozessmanagement versetzt Unternehmen in die Lage\
 , Prozesse kontinuierlich zu analysieren\, zu verbessern und neu zu erfind
 en.\nDer Kurs legt einen Schwerpunkt auf die Herausforderungen bei der Ums
 etzung von Transformation und liefert prozessorientierte Lösungsansätze. B
 eispielsweise wird erarbeitet\, wie neue Technologien hinsichtlich ihres w
 irtschaftlichen Potenzials für die Prozessgestaltung zu bewerten sind oder
  auch wie eine Organisationskultur geschaffen werden kann\, die digitale T
 ransformation systematisch unterstützt. Auch die Nutzungsmöglichkeit innov
 ativer Technologien\, wie Big Data Analytics und Social Media werden thema
 tisiert. Vermittelt werden konkrete Methoden\, die in der Organisation dir
 ekt nutzbar sind. Sämtlich Inhalte werden anhand von Tools und konkreten B
 eispielen aus der Praxis veranschaulicht.\nDieser Workshop richtet sich an
  Unternehmen\, die sich in einer digitalen Transformation befinden.\nAnmel
 dung \nPreis: 590.- CHF/Person\nAnmeldeschluss. 23.04.2023\nWeitere Inform
 ationen zur Veranstaltung finden Sie hier... http://bomi40.eu/de/service-k
 ompetenz/veranstaltungen/ort/event/2657-digitale-transformation-und-busine
 ss-process-management
DTSTART:20230427T070000Z
DTEND:20230427T153000Z
LOCATION:Universität Liechtenstein\, Hörsaal 6 (H6) (Fürst-Franz-Josef-Stra
 sse\, 9490 Vaduz\, Liechtenstein)
SUMMARY:Digitale Transformation und Business Process Management
URL:http://bomi40.eu/de/service-kompetenz/veranstaltungen/ort/event/2657-di
 gitale-transformation-und-business-process-management
END:VEVENT
END:VCALENDAR
