BEGIN:VCALENDAR
VERSION:2.0
PRODID:-//http://bomi40.eu///NONSGML kigkonsult.se iCalcreator 2.10.15//
METHOD:PUBLISH
BEGIN:VEVENT
UID:20260419T192502CEST-0197F7uKh1@http://bomi40.eu/
DTSTAMP:20260419T172502Z
DESCRIPTION:Wie werden wir in Zukunft arbeiten? Rasante technische Entwickl
 ungen\, sich verändernde Ansprüche aller Beteiligten\, eine älter werdende
  Gesellschaft und zunehmende Internationalisierung fordern uns heraus. Wol
 len wir - als Arbeitgeber:innen wie als Arbeitnehmer:innen - im Driver Sea
 t die Entwicklung gestalten oder überlassen wir dies anderen?\nAm 5. Busin
 ess Summit der FHV - Vorarlberg University of Applied Sciences sind Sie Te
 il dieses Diskurses über die Zukunft. Wir freuen uns\, Sie am Donnerstag\,
  25. Mai 2023 bei uns willkommen zu heißen. Nutzen Sie die Chance auf span
 nende Impulse und interessante Gespräche mit Persönlichkeiten aus Wirtscha
 ft und Wissenschaft.\nTickets: 210\,94€\nAnmeldung\nWeitere Informationen 
 zur Veranstaltung finden Sie hier... http://bomi40.eu/de/service-kompetenz
 /veranstaltungen/ort/event/2672-business-summit-future-organisations-wie-w
 erden-wir-in-zukunft-arbeiten
DTSTART:20230525T120000Z
DTEND:20230525T180000Z
LOCATION:Aula Achstraße\, FHV - Vorarlberg University of Applied Sciences (
 Campusplan) (Hochschulstraße 1\, 6850 Dornbirn\, Österreich)
SUMMARY:Business Summit: „FUTURE ORGANISATIONS - Wie werden wir in Zukunft 
 arbeiten? 
URL:http://bomi40.eu/de/service-kompetenz/veranstaltungen/ort/event/2672-bu
 siness-summit-future-organisations-wie-werden-wir-in-zukunft-arbeiten
END:VEVENT
END:VCALENDAR
